BEGIN:VCALENDAR
VERSION:2.0
PRODID:-//Inspired Mind Matters, LLC Personal Development &amp; Stress Management Coaching - ECPv6.15.20//NONSGML v1.0//EN
CALSCALE:GREGORIAN
METHOD:PUBLISH
X-WR-CALNAME:Inspired Mind Matters, LLC Personal Development &amp; Stress Management Coaching
X-ORIGINAL-URL:https://inspiredmindmatters.com
X-WR-CALDESC:Events for Inspired Mind Matters, LLC Personal Development &amp; Stress Management Coaching
REFRESH-INTERVAL;VALUE=DURATION:PT1H
X-Robots-Tag:noindex
X-PUBLISHED-TTL:PT1H
BEGIN:VTIMEZONE
TZID:UTC
BEGIN:STANDARD
TZOFFSETFROM:+0000
TZOFFSETTO:+0000
TZNAME:UTC
DTSTART:20220101T000000
END:STANDARD
END:VTIMEZONE
BEGIN:VEVENT
DTSTART;TZID=UTC:20230422T093000
DTEND;TZID=UTC:20230422T104500
DTSTAMP:20260420T091929
CREATED:20230223T112101Z
LAST-MODIFIED:20230522T091827Z
UID:10000011-1682155800-1682160300@inspiredmindmatters.com
SUMMARY:Yin Class
DESCRIPTION:Join us for a relaxing and rejuvenating Yin Yoga & Meditation session for your body and mind. Classes are $20.00 Square\, Venmo\, or Cash. All mats\, blankets\, bolsters\, blocks\, and straps are supplied. Class starts at 9:30 am\, please arrive up to 10 minutes early as to not disrupt class after it starts. Wear comfortable stretchy clothing\, and if your feet get cold\, I recommend socks.
URL:https://inspiredmindmatters.com/event/yin-class-4/
CATEGORIES:Yin Classes
ATTACH;FMTTYPE=image/png:https://inspiredmindmatters.com/wp-content/uploads/2023/03/yin-with-michelle.png
END:VEVENT
BEGIN:VEVENT
DTSTART;TZID=UTC:20230411T093000
DTEND;TZID=UTC:20230411T104500
DTSTAMP:20260420T091929
CREATED:20230208T102013Z
LAST-MODIFIED:20230522T091859Z
UID:10000005-1681205400-1681209900@inspiredmindmatters.com
SUMMARY:Yin Class
DESCRIPTION:Join us for a relaxing and rejuvenating Yin Yoga & Meditation session for your body and mind. Classes are $20.00 Square\, Venmo\, or Cash. All mats\, blankets\, bolsters\, blocks\, and straps are supplied. Class starts at 9:30 am\, please arrive up to 10 minutes early as to not disrupt class after it starts. Wear comfortable stretchy clothing\, and if your feet get cold\, I recommend socks.
URL:https://inspiredmindmatters.com/event/placeholder-event-1/
CATEGORIES:Yin Classes
ATTACH;FMTTYPE=image/png:https://inspiredmindmatters.com/wp-content/uploads/2023/03/yin-with-michelle.png
END:VEVENT
BEGIN:VEVENT
DTSTART;TZID=UTC:20230325T094500
DTEND;TZID=UTC:20230325T110000
DTSTAMP:20260420T091929
CREATED:20230223T111419Z
LAST-MODIFIED:20230522T091824Z
UID:10000010-1679737500-1679742000@inspiredmindmatters.com
SUMMARY:Yin Class
DESCRIPTION:Last Class at Salt Hotel! Join us for a relaxing and rejuvenating Yin Yoga & Meditation session for your body and mind. Classes are $20.00 Square\, Venmo\, or Cash. All mats\, blankets\, bolsters\, blocks\, and straps are supplied. Class starts at 9:45 am\, please arrive up to 10 minutes early as to not disrupt class after it starts. Wear comfortable stretchy clothing\, and if your feet get cold\, I recommend socks.
URL:https://inspiredmindmatters.com/event/yin-class-3/
CATEGORIES:Yin Classes
ATTACH;FMTTYPE=image/png:https://inspiredmindmatters.com/wp-content/uploads/2023/03/yin-with-michelle.png
END:VEVENT
BEGIN:VEVENT
DTSTART;TZID=UTC:20230314T094500
DTEND;TZID=UTC:20230314T110000
DTSTAMP:20260420T091929
CREATED:20230223T111002Z
LAST-MODIFIED:20230522T091837Z
UID:10000009-1678787100-1678791600@inspiredmindmatters.com
SUMMARY:Yin Class
DESCRIPTION:Join us for a relaxing and rejuvenating Yin Yoga & Meditation session for your body and mind. Classes are $20.00 Square\, Venmo\, or Cash. All mats\, blankets\, bolsters\, blocks\, and straps are supplied. Class starts at 9:45 am\, please arrive up to 10 minutes early as to not disrupt class after it starts. Wear comfortable stretchy clothing\, and if your feet get cold\, I recommend socks.
URL:https://inspiredmindmatters.com/event/yin-class-2/
CATEGORIES:Yin Classes
ATTACH;FMTTYPE=image/png:https://inspiredmindmatters.com/wp-content/uploads/2023/03/yin-with-michelle.png
END:VEVENT
BEGIN:VEVENT
DTSTART;TZID=UTC:20230225T094500
DTEND;TZID=UTC:20230225T110000
DTSTAMP:20260420T091929
CREATED:20230223T105632Z
LAST-MODIFIED:20230522T091848Z
UID:10000008-1677318300-1677322800@inspiredmindmatters.com
SUMMARY:Yin Class
DESCRIPTION:Join us for a relaxing and rejuvenating Yin Yoga & Meditation session for your body and mind. Classes are $20.00 cash or Venmo. All mats\, blankets\, bolsters\, blocks\, and straps are supplied. Class starts at 9:45 am\, please arrive up to 10 minutes early as to not disrupt class after it starts. Wear comfortable stretchy clothing\, and if your feet get cold\, I recommend socks.
URL:https://inspiredmindmatters.com/event/yin-class/
CATEGORIES:Yin Classes
ATTACH;FMTTYPE=image/png:https://inspiredmindmatters.com/wp-content/uploads/2023/03/yin-with-michelle.png
END:VEVENT
END:VCALENDAR