BEGIN:VCALENDAR
VERSION:2.0
PRODID:-//Inspired Mind Matters, LLC Personal Development &amp; Stress Management Coaching - ECPv6.15.20//NONSGML v1.0//EN
CALSCALE:GREGORIAN
METHOD:PUBLISH
X-WR-CALNAME:Inspired Mind Matters, LLC Personal Development &amp; Stress Management Coaching
X-ORIGINAL-URL:https://inspiredmindmatters.com
X-WR-CALDESC:Events for Inspired Mind Matters, LLC Personal Development &amp; Stress Management Coaching
REFRESH-INTERVAL;VALUE=DURATION:PT1H
X-Robots-Tag:noindex
X-PUBLISHED-TTL:PT1H
BEGIN:VTIMEZONE
TZID:UTC
BEGIN:STANDARD
TZOFFSETFROM:+0000
TZOFFSETTO:+0000
TZNAME:UTC
DTSTART:20220101T000000
END:STANDARD
END:VTIMEZONE
BEGIN:VEVENT
DTSTART;TZID=UTC:20230620T093000
DTEND;TZID=UTC:20230620T104500
DTSTAMP:20260421T233046
CREATED:20230509T140051Z
LAST-MODIFIED:20230531T095645Z
UID:10000038-1687253400-1687257900@inspiredmindmatters.com
SUMMARY:Yin Class
DESCRIPTION:Join Michelle for a relaxing and rejuvenating Yin Yoga & Meditation session for your body and mind. Classes are $20.00 Square\, Venmo\, or Cash. All mats\, blankets\, bolsters\, blocks\, and straps are supplied. Class starts at 9:30 am\, please arrive up to 10 minutes early as to not disrupt class after it starts. Wear comfortable stretchy clothing\, and if your feet get cold\, I recommend socks.
URL:https://inspiredmindmatters.com/event/yin-class-30/
CATEGORIES:Yin Classes
ATTACH;FMTTYPE=image/webp:https://inspiredmindmatters.com/wp-content/uploads/2023/05/yin-with-michelle.webp
END:VEVENT
BEGIN:VEVENT
DTSTART;TZID=UTC:20230619T183000
DTEND;TZID=UTC:20230619T193000
DTSTAMP:20260421T233046
CREATED:20230523T213538Z
LAST-MODIFIED:20230531T095634Z
UID:10000068-1687199400-1687203000@inspiredmindmatters.com
SUMMARY:Vinyasa Flow with Jenelle
DESCRIPTION:This practice is for all bodies and all levels. This class will meet students where they are at and allow for exploration and growth. Jenelle will guide students with props and modifications to make the class accessible for all. Students will be able to challenge themselves and find their own boundaries. Vinyasa Flow yoga emphasizes the sequential movement between postures\, coordinated with and guided by deliberate breath. The Vinyasa practice becomes a moving meditation that creates strength\, freedom and fluidity in the body and mind. Classes are $20.00\, cash or Venmo. \nPrice is $20.00
URL:https://inspiredmindmatters.com/event/vinyasa-flow-with-jenelle-3/
CATEGORIES:Yin Classes
ATTACH;FMTTYPE=image/webp:https://inspiredmindmatters.com/wp-content/uploads/2023/05/YOGA-WITh-JENELLE.webp
END:VEVENT
BEGIN:VEVENT
DTSTART;TZID=UTC:20230618T093000
DTEND;TZID=UTC:20230618T103000
DTSTAMP:20260421T233046
CREATED:20230529T024711Z
LAST-MODIFIED:20230705T213140Z
UID:10000089-1687080600-1687084200@inspiredmindmatters.com
SUMMARY:Simply Yoga with Jenelle
DESCRIPTION:This class is for the beginner to the advanced yogi. We will link breath to movement throughout class. Cues will be given for students to either find space and relaxation or progress to maximum effort\, according to yogis need for a yoga work out or a yoga work in. This class provides the opportunity for students to progress their practice at their pace. $20.00 drop in Cash or Venmo
URL:https://inspiredmindmatters.com/event/simply-yoga-with-jenelle-2/
ATTACH;FMTTYPE=image/webp:https://inspiredmindmatters.com/wp-content/uploads/2023/05/YOGA-WITH-CASSANDRA-FOR-SITE.webp
END:VEVENT
BEGIN:VEVENT
DTSTART;TZID=UTC:20230613T173000
DTEND;TZID=UTC:20230613T184500
DTSTAMP:20260421T233046
CREATED:20230509T142425Z
LAST-MODIFIED:20230531T101301Z
UID:10000049-1686677400-1686681900@inspiredmindmatters.com
SUMMARY:Yin Class
DESCRIPTION:Join Michelle for a relaxing and rejuvenating Yin Yoga & Meditation session for your body and mind. Classes are $20.00 Square\, Venmo\, or Cash. All mats\, blankets\, bolsters\, blocks\, and straps are supplied. Class starts at 9:30 am\, please arrive up to 10 minutes early as to not disrupt class after it starts. Wear comfortable stretchy clothing\, and if your feet get cold\, I recommend socks.
URL:https://inspiredmindmatters.com/event/yin-class-40/
CATEGORIES:Yin Classes
ATTACH;FMTTYPE=image/webp:https://inspiredmindmatters.com/wp-content/uploads/2023/05/yin-with-michelle.webp
END:VEVENT
BEGIN:VEVENT
DTSTART;TZID=UTC:20230613T133000
DTEND;TZID=UTC:20230613T143000
DTSTAMP:20260421T233046
CREATED:20230522T085551Z
LAST-MODIFIED:20230522T085824Z
UID:10000073-1686663000-1686666600@inspiredmindmatters.com
SUMMARY:Mini & Me Mindful Movement for ages 3-6 with Parent/Guardian
DESCRIPTION:You and your child or grandchild will connect in movement and mindfulness together. This is an introduction to the mat\, breathwork\, yoga\, moving with intention\, and coordination\, while still being active and having fun. Classes will be interactive and educational\, using stories\, games\, music\, and confidence building equipment. Class price is $15.00\, this includes child and adult\, each additional family sibling is $10.00 \nPrice is $15.00
URL:https://inspiredmindmatters.com/event/mini-me-mindful-movement-for-ages-3-6-with-parent-guardian/2023-06-13/
CATEGORIES:Yin Classes
ATTACH;FMTTYPE=image/png:https://inspiredmindmatters.com/wp-content/uploads/2023/05/kids-for-web.png
END:VEVENT
BEGIN:VEVENT
DTSTART;TZID=UTC:20230613T093000
DTEND;TZID=UTC:20230613T104500
DTSTAMP:20260421T233046
CREATED:20230509T135934Z
LAST-MODIFIED:20230612T003407Z
UID:10000037-1686648600-1686653100@inspiredmindmatters.com
SUMMARY:Yin Class
DESCRIPTION:Join Michelle for a relaxing and rejuvenating Yin Yoga & Meditation session for your body and mind. Classes are $20.00 Square\, Venmo\, or Cash. All mats\, blankets\, bolsters\, blocks\, and straps are supplied. Class starts at 9:30 am\, please arrive up to 10 minutes early as to not disrupt class after it starts. Wear comfortable stretchy clothing\, and if your feet get cold\, I recommend socks.
URL:https://inspiredmindmatters.com/event/yin-class-29/
CATEGORIES:Yin Classes
ATTACH;FMTTYPE=image/webp:https://inspiredmindmatters.com/wp-content/uploads/2023/05/yin-with-michelle.webp
END:VEVENT
BEGIN:VEVENT
DTSTART;TZID=UTC:20230606T173000
DTEND;TZID=UTC:20230606T184500
DTSTAMP:20260421T233046
CREATED:20230509T142319Z
LAST-MODIFIED:20230531T095503Z
UID:10000048-1686072600-1686077100@inspiredmindmatters.com
SUMMARY:Yin Class
DESCRIPTION:Join Michelle for a relaxing and rejuvenating Yin Yoga & Meditation session for your body and mind. Classes are $20.00 Square\, Venmo\, or Cash. All mats\, blankets\, bolsters\, blocks\, and straps are supplied. Class starts at 9:30 am\, please arrive up to 10 minutes early as to not disrupt class after it starts. Wear comfortable stretchy clothing\, and if your feet get cold\, I recommend socks.
URL:https://inspiredmindmatters.com/event/yin-class-39/
CATEGORIES:Yin Classes
ATTACH;FMTTYPE=image/webp:https://inspiredmindmatters.com/wp-content/uploads/2023/05/yin-with-michelle.webp
END:VEVENT
BEGIN:VEVENT
DTSTART;TZID=UTC:20230606T133000
DTEND;TZID=UTC:20230606T143000
DTSTAMP:20260421T233046
CREATED:20230522T085551Z
LAST-MODIFIED:20230522T085824Z
UID:10000072-1686058200-1686061800@inspiredmindmatters.com
SUMMARY:Mini & Me Mindful Movement for ages 3-6 with Parent/Guardian
DESCRIPTION:You and your child or grandchild will connect in movement and mindfulness together. This is an introduction to the mat\, breathwork\, yoga\, moving with intention\, and coordination\, while still being active and having fun. Classes will be interactive and educational\, using stories\, games\, music\, and confidence building equipment. Class price is $15.00\, this includes child and adult\, each additional family sibling is $10.00 \nPrice is $15.00
URL:https://inspiredmindmatters.com/event/mini-me-mindful-movement-for-ages-3-6-with-parent-guardian/2023-06-06/
CATEGORIES:Yin Classes
ATTACH;FMTTYPE=image/png:https://inspiredmindmatters.com/wp-content/uploads/2023/05/kids-for-web.png
END:VEVENT
BEGIN:VEVENT
DTSTART;TZID=UTC:20230606T093000
DTEND;TZID=UTC:20230606T104500
DTSTAMP:20260421T233046
CREATED:20230509T135557Z
LAST-MODIFIED:20230531T095453Z
UID:10000035-1686043800-1686048300@inspiredmindmatters.com
SUMMARY:Yin Class
DESCRIPTION:Join Michelle for a relaxing and rejuvenating Yin Yoga & Meditation session for your body and mind. Classes are $20.00 Square\, Venmo\, or Cash. All mats\, blankets\, bolsters\, blocks\, and straps are supplied. Class starts at 9:30 am\, please arrive up to 10 minutes early as to not disrupt class after it starts. Wear comfortable stretchy clothing\, and if your feet get cold\, I recommend socks.
URL:https://inspiredmindmatters.com/event/yin-class-27/
CATEGORIES:Yin Classes
ATTACH;FMTTYPE=image/webp:https://inspiredmindmatters.com/wp-content/uploads/2023/05/yin-with-michelle.webp
END:VEVENT
BEGIN:VEVENT
DTSTART;TZID=UTC:20230605T183000
DTEND;TZID=UTC:20230605T193000
DTSTAMP:20260421T233046
CREATED:20230523T213436Z
LAST-MODIFIED:20230531T095442Z
UID:10000067-1685989800-1685993400@inspiredmindmatters.com
SUMMARY:Vinyasa Flow with Jenelle
DESCRIPTION:This practice is for all bodies and all levels. This class will meet students where they are at and allow for exploration and growth. Jenelle will guide students with props and modifications to make the class accessible for all. Students will be able to challenge themselves and find their own boundaries. Vinyasa Flow yoga emphasizes the sequential movement between postures\, coordinated with and guided by deliberate breath. The Vinyasa practice becomes a moving meditation that creates strength\, freedom and fluidity in the body and mind. Classes are $20.00\, cash or Venmo. \nPrice is $20.00
URL:https://inspiredmindmatters.com/event/vinyasa-flow-with-jenelle-2/
CATEGORIES:Yin Classes
ATTACH;FMTTYPE=image/webp:https://inspiredmindmatters.com/wp-content/uploads/2023/05/YOGA-WITh-JENELLE.webp
END:VEVENT
BEGIN:VEVENT
DTSTART;TZID=UTC:20230604T093000
DTEND;TZID=UTC:20230604T103000
DTSTAMP:20260421T233046
CREATED:20230529T024513Z
LAST-MODIFIED:20230531T095422Z
UID:10000088-1685871000-1685874600@inspiredmindmatters.com
SUMMARY:Simply Yoga with Jenelle
DESCRIPTION:This class is for the beginner to the advanced yogi. We will link breath to movement throughout class. Cues will be given for students to either find space and relaxation or progress to maximum effort\, according to yogis need for a yoga work out or a yoga work in. This class provides the opportunity for students to progress their practice at their pace. $20.00 drop in Cash or Venmo
URL:https://inspiredmindmatters.com/event/simply-yoga-with-jenelle/
ATTACH;FMTTYPE=image/webp:https://inspiredmindmatters.com/wp-content/uploads/2023/05/YOGA-WITH-CASSANDRA-FOR-SITE.webp
END:VEVENT
BEGIN:VEVENT
DTSTART;TZID=UTC:20230603T093000
DTEND;TZID=UTC:20230603T104500
DTSTAMP:20260421T233046
CREATED:20230509T135138Z
LAST-MODIFIED:20230531T095410Z
UID:10000034-1685784600-1685789100@inspiredmindmatters.com
SUMMARY:Yin Class
DESCRIPTION:Join Michelle for a relaxing and rejuvenating Yin Yoga & Meditation session for your body and mind. Classes are $20.00 Square\, Venmo\, or Cash. All mats\, blankets\, bolsters\, blocks\, and straps are supplied. Class starts at 9:30 am\, please arrive up to 10 minutes early as to not disrupt class after it starts. Wear comfortable stretchy clothing\, and if your feet get cold\, I recommend socks.
URL:https://inspiredmindmatters.com/event/yin-class-20/
CATEGORIES:Yin Classes
ATTACH;FMTTYPE=image/webp:https://inspiredmindmatters.com/wp-content/uploads/2023/05/yin-with-michelle.webp
END:VEVENT
BEGIN:VEVENT
DTSTART;TZID=UTC:20230601T093000
DTEND;TZID=UTC:20230601T103000
DTSTAMP:20260421T233046
CREATED:20230527T152644Z
LAST-MODIFIED:20230531T095356Z
UID:10000087-1685611800-1685615400@inspiredmindmatters.com
SUMMARY:Vinyasa Flow with Jenelle
DESCRIPTION:This practice is for all bodies and all levels. This class will meet students where they are at and allow for exploration and growth. Jenelle will guide students with props and modifications to make the class accessible for all. Students will be able to challenge themselves and find their own boundaries. Vinyasa Flow yoga emphasizes the sequential movement between postures\, coordinated with and guided by deliberate breath. The Vinyasa practice becomes a moving meditation that creates strength\, freedom and fluidity in the body and mind. Classes are $20.00\, cash or Venmo. \nPrice is $20.00
URL:https://inspiredmindmatters.com/event/vinyasa-flow-with-jenelle-4/
ATTACH;FMTTYPE=image/webp:https://inspiredmindmatters.com/wp-content/uploads/2023/05/YOGA-WITh-JENELLE.webp
END:VEVENT
BEGIN:VEVENT
DTSTART;TZID=UTC:20230530T173000
DTEND;TZID=UTC:20230530T184500
DTSTAMP:20260421T233046
CREATED:20230321T073342Z
LAST-MODIFIED:20230531T101658Z
UID:10000032-1685467800-1685472300@inspiredmindmatters.com
SUMMARY:Yin Class
DESCRIPTION:Join us for a relaxing and rejuvenating Yin Yoga & Meditation session for your body and mind. Classes are $20.00 Square\, Venmo\, or Cash. All mats\, blankets\, bolsters\, blocks\, and straps are supplied. Class starts at 5:30 pm\, please arrive up to 10 minutes early as to not disrupt class after it starts. Wear comfortable stretchy clothing\, and if your feet get cold\, I recommend socks.
URL:https://inspiredmindmatters.com/event/yin-class-25/
CATEGORIES:Yin Classes
ATTACH;FMTTYPE=image/webp:https://inspiredmindmatters.com/wp-content/uploads/2023/05/yin-with-michelle.webp
END:VEVENT
BEGIN:VEVENT
DTSTART;TZID=UTC:20230530T093000
DTEND;TZID=UTC:20230530T104500
DTSTAMP:20260421T233046
CREATED:20230321T073143Z
LAST-MODIFIED:20230531T101649Z
UID:10000031-1685439000-1685443500@inspiredmindmatters.com
SUMMARY:Yin Class
DESCRIPTION:Join us for a relaxing and rejuvenating Yin Yoga & Meditation session for your body and mind. Classes are $20.00 Square\, Venmo\, or Cash. All mats\, blankets\, bolsters\, blocks\, and straps are supplied. Class starts at 9:30 am\, please arrive up to 10 minutes early as to not disrupt class after it starts. Wear comfortable stretchy clothing\, and if your feet get cold\, I recommend socks.
URL:https://inspiredmindmatters.com/event/yin-class-24/
CATEGORIES:Yin Classes
ATTACH;FMTTYPE=image/webp:https://inspiredmindmatters.com/wp-content/uploads/2023/05/yin-with-michelle.webp
END:VEVENT
BEGIN:VEVENT
DTSTART;TZID=UTC:20230529T183000
DTEND;TZID=UTC:20230529T193000
DTSTAMP:20260421T233046
CREATED:20230522T084444Z
LAST-MODIFIED:20230531T095753Z
UID:10000079-1685385000-1685388600@inspiredmindmatters.com
SUMMARY:Vinyasa Flow with Jenelle
DESCRIPTION:This practice is for all bodies and all levels. This class will meet students where they are at and allow for exploration and growth. Jenelle will guide students with props and modifications to make the class accessible for all. Students will be able to challenge themselves and find their own boundaries. Vinyasa Flow yoga emphasizes the sequential movement between postures\, coordinated with and guided by deliberate breath. The Vinyasa practice becomes a moving meditation that creates strength\, freedom and fluidity in the body and mind. Classes are $20.00\, cash or Venmo. \nPrice is $20.00
URL:https://inspiredmindmatters.com/event/vinyasa-flow-with-jenelle/2023-05-29/
CATEGORIES:Yin Classes
ATTACH;FMTTYPE=image/webp:https://inspiredmindmatters.com/wp-content/uploads/2023/05/YOGA-WITh-JENELLE.webp
END:VEVENT
BEGIN:VEVENT
DTSTART;TZID=UTC:20230528T093000
DTEND;TZID=UTC:20230528T104500
DTSTAMP:20260421T233046
CREATED:20230511T172326Z
LAST-MODIFIED:20230531T101641Z
UID:10000064-1685266200-1685270700@inspiredmindmatters.com
SUMMARY:Joyful Yoga with Cassandra
DESCRIPTION:Join Cassandra for a joyful yoga practice. She meets each yoga participant at their present level of yoga experience. Her teaching emphasizes the understanding of yoga practice as a way to access our quiet center and to walk life’s path with courage and peace. Classes are $20.00 cash or Venmo. All mats\, blankets\, bolsters\, blocks\, and straps are supplied. Class starts at 9:30am\, please arrive up to 10 minutes early as to not disrupt class after it starts.
URL:https://inspiredmindmatters.com/event/joyful-yoga-with-cassandra-5/
CATEGORIES:Joyful Yoga
ATTACH;FMTTYPE=image/webp:https://inspiredmindmatters.com/wp-content/uploads/2023/05/YOGA-WITH-CASSANDRA.webp
END:VEVENT
BEGIN:VEVENT
DTSTART;TZID=UTC:20230527T093000
DTEND;TZID=UTC:20230527T104500
DTSTAMP:20260421T233046
CREATED:20230321T072943Z
LAST-MODIFIED:20230531T101632Z
UID:10000030-1685179800-1685184300@inspiredmindmatters.com
SUMMARY:Yin Class
DESCRIPTION:Join us for a relaxing and rejuvenating Yin Yoga & Meditation session for your body and mind. Classes are $20.00 Square\, Venmo\, or Cash. All mats\, blankets\, bolsters\, blocks\, and straps are supplied. Class starts at 9:30 am\, please arrive up to 10 minutes early as to not disrupt class after it starts. Wear comfortable stretchy clothing\, and if your feet get cold\, I recommend socks.
URL:https://inspiredmindmatters.com/event/yin-class-23/
CATEGORIES:Yin Classes
ATTACH;FMTTYPE=image/webp:https://inspiredmindmatters.com/wp-content/uploads/2023/05/yin-with-michelle.webp
END:VEVENT
BEGIN:VEVENT
DTSTART;TZID=UTC:20230526T163000
DTEND;TZID=UTC:20230526T174500
DTSTAMP:20260421T233046
CREATED:20230511T172132Z
LAST-MODIFIED:20230531T101623Z
UID:10000062-1685118600-1685123100@inspiredmindmatters.com
SUMMARY:Joyful Yoga with Cassandra
DESCRIPTION:Join Cassandra for a joyful yoga practice. She meets each yoga participant at their present level of yoga experience. Her teaching emphasizes the understanding of yoga practice as a way to access our quiet center and to walk life’s path with courage and peace. Classes are $20.00 cash or Venmo. All mats\, blankets\, bolsters\, blocks\, and straps are supplied. Class starts at 4:30pm\, please arrive up to 10 minutes early as to not disrupt class after it starts.
URL:https://inspiredmindmatters.com/event/joyful-yoga-with-cassandra-3/
CATEGORIES:Joyful Yoga
ATTACH;FMTTYPE=image/webp:https://inspiredmindmatters.com/wp-content/uploads/2023/05/YOGA-WITH-CASSANDRA.webp
END:VEVENT
BEGIN:VEVENT
DTSTART;TZID=UTC:20230525T093000
DTEND;TZID=UTC:20230525T103000
DTSTAMP:20260421T233046
CREATED:20230522T084444Z
LAST-MODIFIED:20230531T095753Z
UID:10000065-1685007000-1685010600@inspiredmindmatters.com
SUMMARY:Vinyasa Flow with Jenelle
DESCRIPTION:This practice is for all bodies and all levels. This class will meet students where they are at and allow for exploration and growth. Jenelle will guide students with props and modifications to make the class accessible for all. Students will be able to challenge themselves and find their own boundaries. Vinyasa Flow yoga emphasizes the sequential movement between postures\, coordinated with and guided by deliberate breath. The Vinyasa practice becomes a moving meditation that creates strength\, freedom and fluidity in the body and mind. Classes are $20.00\, cash or Venmo. \nPrice is $20.00
URL:https://inspiredmindmatters.com/event/vinyasa-flow-with-jenelle/2023-05-25/
CATEGORIES:Yin Classes
ATTACH;FMTTYPE=image/webp:https://inspiredmindmatters.com/wp-content/uploads/2023/05/YOGA-WITh-JENELLE.webp
END:VEVENT
BEGIN:VEVENT
DTSTART;TZID=UTC:20230523T093000
DTEND;TZID=UTC:20230523T104500
DTSTAMP:20260421T233046
CREATED:20230321T072519Z
LAST-MODIFIED:20230531T101615Z
UID:10000028-1684834200-1684838700@inspiredmindmatters.com
SUMMARY:Yin Class
DESCRIPTION:Join us for a relaxing and rejuvenating Yin Yoga & Meditation session for your body and mind. Classes are $20.00 Square\, Venmo\, or Cash. All mats\, blankets\, bolsters\, blocks\, and straps are supplied. Class starts at 9:30 am\, please arrive up to 10 minutes early as to not disrupt class after it starts. Wear comfortable stretchy clothing\, and if your feet get cold\, I recommend socks.
URL:https://inspiredmindmatters.com/event/yin-class-21/
CATEGORIES:Yin Classes
ATTACH;FMTTYPE=image/webp:https://inspiredmindmatters.com/wp-content/uploads/2023/05/yin-with-michelle.webp
END:VEVENT
BEGIN:VEVENT
DTSTART;TZID=UTC:20230521T093000
DTEND;TZID=UTC:20230521T104500
DTSTAMP:20260421T233046
CREATED:20230511T172251Z
LAST-MODIFIED:20230531T101606Z
UID:10000063-1684661400-1684665900@inspiredmindmatters.com
SUMMARY:Joyful Yoga with Cassandra
DESCRIPTION:Join Cassandra for a joyful yoga practice. She meets each yoga participant at their present level of yoga experience. Her teaching emphasizes the understanding of yoga practice as a way to access our quiet center and to walk life’s path with courage and peace. Classes are $20.00 cash or Venmo. All mats\, blankets\, bolsters\, blocks\, and straps are supplied. Class starts at 9:30am\, please arrive up to 10 minutes early as to not disrupt class after it starts.
URL:https://inspiredmindmatters.com/event/joyful-yoga-with-cassandra-4/
CATEGORIES:Joyful Yoga
ATTACH;FMTTYPE=image/webp:https://inspiredmindmatters.com/wp-content/uploads/2023/05/YOGA-WITH-CASSANDRA.webp
END:VEVENT
BEGIN:VEVENT
DTSTART;TZID=UTC:20230519T163000
DTEND;TZID=UTC:20230519T174500
DTSTAMP:20260421T233046
CREATED:20230511T102449Z
LAST-MODIFIED:20230531T101556Z
UID:10000060-1684513800-1684518300@inspiredmindmatters.com
SUMMARY:Joyful Yoga with Cassandra
DESCRIPTION:Join Cassandra for a joyful yoga practice. She meets each yoga participant at their present level of yoga experience. Her teaching emphasizes the understanding of yoga practice as a way to access our quiet center and to walk life’s path with courage and peace. Classes are $20.00 cash or Venmo. All mats\, blankets\, bolsters\, blocks\, and straps are supplied. Class starts at 4:30pm\, please arrive up to 10 minutes early as to not disrupt class after it starts.
URL:https://inspiredmindmatters.com/event/joyful-yoga-with-cassandra-2/
CATEGORIES:Joyful Yoga
ATTACH;FMTTYPE=image/webp:https://inspiredmindmatters.com/wp-content/uploads/2023/05/YOGA-WITH-CASSANDRA.webp
END:VEVENT
BEGIN:VEVENT
DTSTART;TZID=UTC:20230516T173000
DTEND;TZID=UTC:20230516T184500
DTSTAMP:20260421T233046
CREATED:20230321T072141Z
LAST-MODIFIED:20230531T101549Z
UID:10000026-1684258200-1684262700@inspiredmindmatters.com
SUMMARY:Yin Class
DESCRIPTION:Join us for a relaxing and rejuvenating Yin Yoga & Meditation session for your body and mind. Classes are $20.00 Square\, Venmo\, or Cash. All mats\, blankets\, bolsters\, blocks\, and straps are supplied. Class starts at 5:30 pm\, please arrive up to 10 minutes early as to not disrupt class after it starts. Wear comfortable stretchy clothing\, and if your feet get cold\, I recommend socks.
URL:https://inspiredmindmatters.com/event/yin-class-19/
CATEGORIES:Yin Classes
ATTACH;FMTTYPE=image/webp:https://inspiredmindmatters.com/wp-content/uploads/2023/05/yin-with-michelle.webp
END:VEVENT
BEGIN:VEVENT
DTSTART;TZID=UTC:20230516T093000
DTEND;TZID=UTC:20230516T104500
DTSTAMP:20260421T233046
CREATED:20230321T072020Z
LAST-MODIFIED:20230531T101540Z
UID:10000025-1684229400-1684233900@inspiredmindmatters.com
SUMMARY:Yin Class
DESCRIPTION:Join us for a relaxing and rejuvenating Yin Yoga & Meditation session for your body and mind. Classes are $20.00 Square\, Venmo\, or Cash. All mats\, blankets\, bolsters\, blocks\, and straps are supplied. Class starts at 9:30 am\, please arrive up to 10 minutes early as to not disrupt class after it starts. Wear comfortable stretchy clothing\, and if your feet get cold\, I recommend socks.
URL:https://inspiredmindmatters.com/event/yin-class-18/
CATEGORIES:Yin Classes
ATTACH;FMTTYPE=image/webp:https://inspiredmindmatters.com/wp-content/uploads/2023/05/yin-with-michelle.webp
END:VEVENT
BEGIN:VEVENT
DTSTART;TZID=UTC:20230514T093000
DTEND;TZID=UTC:20230514T104500
DTSTAMP:20260421T233046
CREATED:20230511T082807Z
LAST-MODIFIED:20230531T101532Z
UID:10000056-1684056600-1684061100@inspiredmindmatters.com
SUMMARY:Joyful Yoga with Cassandra
DESCRIPTION:Join Cassandra for a joyful yoga practice. She meets each yoga participant at their present level of yoga experience. Her teaching emphasizes the understanding of yoga practice as a way to access our quiet center and to walk life’s path with courage and peace. Classes are $20.00 cash or Venmo. All mats\, blankets\, bolsters\, blocks\, and straps are supplied. Class starts at 9:30am\, please arrive up to 10 minutes early as to not disrupt class after it starts.
URL:https://inspiredmindmatters.com/event/joyful-yoga-with-cassandra/
CATEGORIES:Joyful Yoga
ATTACH;FMTTYPE=image/webp:https://inspiredmindmatters.com/wp-content/uploads/2023/05/YOGA-WITH-CASSANDRA.webp
END:VEVENT
BEGIN:VEVENT
DTSTART;TZID=UTC:20230513T093000
DTEND;TZID=UTC:20230513T104500
DTSTAMP:20260421T233046
CREATED:20230321T071904Z
LAST-MODIFIED:20230531T101523Z
UID:10000024-1683970200-1683974700@inspiredmindmatters.com
SUMMARY:Yin Class
DESCRIPTION:Join us for a relaxing and rejuvenating Yin Yoga & Meditation session for your body and mind. Classes are $20.00 Square\, Venmo\, or Cash. All mats\, blankets\, bolsters\, blocks\, and straps are supplied. Class starts at 9:30 am\, please arrive up to 10 minutes early as to not disrupt class after it starts. Wear comfortable stretchy clothing\, and if your feet get cold\, I recommend socks.
URL:https://inspiredmindmatters.com/event/yin-class-17/
CATEGORIES:Yin Classes
ATTACH;FMTTYPE=image/webp:https://inspiredmindmatters.com/wp-content/uploads/2023/05/yin-with-michelle.webp
END:VEVENT
BEGIN:VEVENT
DTSTART;TZID=UTC:20230510T090000
DTEND;TZID=UTC:20230510T104500
DTSTAMP:20260421T233046
CREATED:20230509T135822Z
LAST-MODIFIED:20230531T101514Z
UID:10000036-1683709200-1683715500@inspiredmindmatters.com
SUMMARY:Yin Class
DESCRIPTION:Join Michelle for a relaxing and rejuvenating Yin Yoga & Meditation session for your body and mind. Classes are $20.00 Square\, Venmo\, or Cash. All mats\, blankets\, bolsters\, blocks\, and straps are supplied. Class starts at 9:30 am\, please arrive up to 10 minutes early as to not disrupt class after it starts. Wear comfortable stretchy clothing\, and if your feet get cold\, I recommend socks.
URL:https://inspiredmindmatters.com/event/yin-class-28/
CATEGORIES:Yin Classes
ATTACH;FMTTYPE=image/webp:https://inspiredmindmatters.com/wp-content/uploads/2023/05/yin-with-michelle.webp
END:VEVENT
BEGIN:VEVENT
DTSTART;TZID=UTC:20230509T173000
DTEND;TZID=UTC:20230509T184500
DTSTAMP:20260421T233046
CREATED:20230321T081038Z
LAST-MODIFIED:20230531T101505Z
UID:10000033-1683653400-1683657900@inspiredmindmatters.com
SUMMARY:Yin Class
DESCRIPTION:Join us for a relaxing and rejuvenating Yin Yoga & Meditation session for your body and mind. Classes are $20.00 Square\, Venmo\, or Cash. All mats\, blankets\, bolsters\, blocks\, and straps are supplied. Class starts at 5:30 pm\, please arrive up to 10 minutes early as to not disrupt class after it starts. Wear comfortable stretchy clothing\, and if your feet get cold\, I recommend socks.
URL:https://inspiredmindmatters.com/event/yin-class-26/
CATEGORIES:Yin Classes
ATTACH;FMTTYPE=image/webp:https://inspiredmindmatters.com/wp-content/uploads/2023/05/yin-with-michelle.webp
END:VEVENT
BEGIN:VEVENT
DTSTART;TZID=UTC:20230509T093000
DTEND;TZID=UTC:20230509T104500
DTSTAMP:20260421T233046
CREATED:20230321T071613Z
LAST-MODIFIED:20230531T101452Z
UID:10000022-1683624600-1683629100@inspiredmindmatters.com
SUMMARY:Yin Class
DESCRIPTION:Join us for a relaxing and rejuvenating Yin Yoga & Meditation session for your body and mind. Classes are $20.00 Square\, Venmo\, or Cash. All mats\, blankets\, bolsters\, blocks\, and straps are supplied. Class starts at 9:30 am\, please arrive up to 10 minutes early as to not disrupt class after it starts. Wear comfortable stretchy clothing\, and if your feet get cold\, I recommend socks.
URL:https://inspiredmindmatters.com/event/yin-class-15/
CATEGORIES:Yin Classes
ATTACH;FMTTYPE=image/webp:https://inspiredmindmatters.com/wp-content/uploads/2023/05/yin-with-michelle.webp
END:VEVENT
END:VCALENDAR