BEGIN:VCALENDAR
VERSION:2.0
PRODID:-//Inspired Mind Matters, LLC Personal Development &amp; Stress Management Coaching - ECPv6.15.20//NONSGML v1.0//EN
CALSCALE:GREGORIAN
METHOD:PUBLISH
X-ORIGINAL-URL:https://inspiredmindmatters.com
X-WR-CALDESC:Events for Inspired Mind Matters, LLC Personal Development &amp; Stress Management Coaching
REFRESH-INTERVAL;VALUE=DURATION:PT1H
X-Robots-Tag:noindex
X-PUBLISHED-TTL:PT1H
BEGIN:VTIMEZONE
TZID:UTC
BEGIN:STANDARD
TZOFFSETFROM:+0000
TZOFFSETTO:+0000
TZNAME:UTC
DTSTART:20250101T000000
END:STANDARD
END:VTIMEZONE
BEGIN:VEVENT
DTSTART;TZID=UTC:20260523T093000
DTEND;TZID=UTC:20260523T103000
DTSTAMP:20260420T065640
CREATED:20260321T193106Z
LAST-MODIFIED:20260414T223113Z
UID:10001153-1779528600-1779532200@inspiredmindmatters.com
SUMMARY:Yin Yoga & Meditation with Michelle
DESCRIPTION:Experience deep relaxation and revitalization with Michelle’s invigorating Yin Yoga & Meditation session\, tailored to nurture your body and mind. Discover the transformative effects of Yin Yoga as it gently stretches and releases tension in your muscles\, promoting flexibility and inner calm. Combined with weekly topics and meditation\, this practice cultivates mental clarity and emotional balance\, leaving you feeling refreshed and centered. \nNo need to worry about equipment—we provide all the essentials\, including mats\, blankets\, bolsters\, blocks\, and straps\, ensuring a comfortable and hassle-free experience. Arrive a few minutes early to settle in and make the most of your session without disrupting the flow. \nDress in cozy\, stretchy attire for unrestricted movement\, and don’t forget to bring socks if you tend to get chilly. Our welcoming atmosphere welcomes drop-ins\, so join us for just $15 per class\, payable via Square\, Venmo\, or Cash. Embrace the opportunity to unwind\, recharge\, and reconnect with yourself at our serene studio. This class is perfect for beginner through advanced yogis\, no yoga experience needed.
URL:https://inspiredmindmatters.com/event/yin-yoga-meditation-with-michelle-12/2026-05-23/
ATTACH;FMTTYPE=image/png:https://inspiredmindmatters.com/wp-content/uploads/2023/05/yin-with-michelle.png
END:VEVENT
BEGIN:VEVENT
DTSTART;TZID=UTC:20260530T093000
DTEND;TZID=UTC:20260530T103000
DTSTAMP:20260420T065640
CREATED:20260321T193106Z
LAST-MODIFIED:20260414T223113Z
UID:10001154-1780133400-1780137000@inspiredmindmatters.com
SUMMARY:Yin Yoga & Meditation with Michelle
DESCRIPTION:Experience deep relaxation and revitalization with Michelle’s invigorating Yin Yoga & Meditation session\, tailored to nurture your body and mind. Discover the transformative effects of Yin Yoga as it gently stretches and releases tension in your muscles\, promoting flexibility and inner calm. Combined with weekly topics and meditation\, this practice cultivates mental clarity and emotional balance\, leaving you feeling refreshed and centered. \nNo need to worry about equipment—we provide all the essentials\, including mats\, blankets\, bolsters\, blocks\, and straps\, ensuring a comfortable and hassle-free experience. Arrive a few minutes early to settle in and make the most of your session without disrupting the flow. \nDress in cozy\, stretchy attire for unrestricted movement\, and don’t forget to bring socks if you tend to get chilly. Our welcoming atmosphere welcomes drop-ins\, so join us for just $15 per class\, payable via Square\, Venmo\, or Cash. Embrace the opportunity to unwind\, recharge\, and reconnect with yourself at our serene studio. This class is perfect for beginner through advanced yogis\, no yoga experience needed.
URL:https://inspiredmindmatters.com/event/yin-yoga-meditation-with-michelle-12/2026-05-30/
ATTACH;FMTTYPE=image/png:https://inspiredmindmatters.com/wp-content/uploads/2023/05/yin-with-michelle.png
END:VEVENT
BEGIN:VEVENT
DTSTART;TZID=UTC:20260606T093000
DTEND;TZID=UTC:20260606T103000
DTSTAMP:20260420T065640
CREATED:20260321T193106Z
LAST-MODIFIED:20260414T223113Z
UID:10001167-1780738200-1780741800@inspiredmindmatters.com
SUMMARY:Yin Yoga & Meditation with Michelle
DESCRIPTION:Experience deep relaxation and revitalization with Michelle’s invigorating Yin Yoga & Meditation session\, tailored to nurture your body and mind. Discover the transformative effects of Yin Yoga as it gently stretches and releases tension in your muscles\, promoting flexibility and inner calm. Combined with weekly topics and meditation\, this practice cultivates mental clarity and emotional balance\, leaving you feeling refreshed and centered. \nNo need to worry about equipment—we provide all the essentials\, including mats\, blankets\, bolsters\, blocks\, and straps\, ensuring a comfortable and hassle-free experience. Arrive a few minutes early to settle in and make the most of your session without disrupting the flow. \nDress in cozy\, stretchy attire for unrestricted movement\, and don’t forget to bring socks if you tend to get chilly. Our welcoming atmosphere welcomes drop-ins\, so join us for just $15 per class\, payable via Square\, Venmo\, or Cash. Embrace the opportunity to unwind\, recharge\, and reconnect with yourself at our serene studio. This class is perfect for beginner through advanced yogis\, no yoga experience needed.
URL:https://inspiredmindmatters.com/event/yin-yoga-meditation-with-michelle-12/2026-06-06/
ATTACH;FMTTYPE=image/png:https://inspiredmindmatters.com/wp-content/uploads/2023/05/yin-with-michelle.png
END:VEVENT
BEGIN:VEVENT
DTSTART;TZID=UTC:20260608T190000
DTEND;TZID=UTC:20260608T210000
DTSTAMP:20260420T065640
CREATED:20260104T035953Z
LAST-MODIFIED:20260414T224034Z
UID:10001159-1780945200-1780952400@inspiredmindmatters.com
SUMMARY:Cold Plunge class & Soaking in Ofuro Spa at Snow Peak Campfield
DESCRIPTION:🌊 Discover the Power of the Cold Plunge at Snow Peak Campfield! ❄️ \n\nStep into a guided cold plunge experience at Snow Peak Campfield Long Beach with Michelle\, where ancient wisdom meets modern nervous-system science. Michelle intentionally holds space to help you move beyond the shock of cold and into a state of clarity\, resilience\, and calm. You’ll be supported with breath guidance\, education\, and pacing so the experience feels empowering rather than overwhelming.\n\n\n\nThis isn’t just a cold plunge — it’s a reset. Two hours in the Ofuro spa allows you to cycle between heat and cold\, helping reduce inflammation\, improve circulation\, elevate mood\, and leave you feeling grounded\, clear\, and deeply alive. If you’ve been curious but hesitant\, this is the safest\, most supportive way to begin.\n\n\n\nYou must pre-register by the morning of the session as they will get cancelled if there is no one registered for the day.\n\n$38.00 local’s price / $45.00 visitors price- Local’s call for local price. \nBring a towel and swimsuit. \nNo glass is allowed around the pool however plastic or stainless cups are allowed. \nRegister with Snow Peak Campfield directly. 1-833-662-7624 \n\nhttps://www.schedulicity.com/scheduling/SPCPYC3/workshops \n\n✨ What You’ll Learn:\n🔹 The “why” behind cold plunging and its powerful benefits.\n🔹 Contraindications to ensure a safe experience.\n🔹 Techniques to optimize your plunge.\n🔹 Breathing methods to prepare\, endure\, and thrive. \n🧘 After a brief class\, enjoy plunging with the group\, followed by free time in the Ofuro Spa’s hot soaking pool\, Japanese sauna\, or the cold plunge at your own pace. \n  \nDon’t miss this opportunity to revitalize your mind and body. 🌬️ \n  \n 
URL:https://inspiredmindmatters.com/event/cold-plunge-class-soaking-in-ofuro-spa-at-snow-peak-campfield-2-6/2026-06-08/
ATTACH;FMTTYPE=image/jpeg:https://inspiredmindmatters.com/wp-content/uploads/2026/01/web.jpg
END:VEVENT
BEGIN:VEVENT
DTSTART;TZID=UTC:20260613T093000
DTEND;TZID=UTC:20260613T103000
DTSTAMP:20260420T065640
CREATED:20260321T193106Z
LAST-MODIFIED:20260414T223113Z
UID:10001168-1781343000-1781346600@inspiredmindmatters.com
SUMMARY:Yin Yoga & Meditation with Michelle
DESCRIPTION:Experience deep relaxation and revitalization with Michelle’s invigorating Yin Yoga & Meditation session\, tailored to nurture your body and mind. Discover the transformative effects of Yin Yoga as it gently stretches and releases tension in your muscles\, promoting flexibility and inner calm. Combined with weekly topics and meditation\, this practice cultivates mental clarity and emotional balance\, leaving you feeling refreshed and centered. \nNo need to worry about equipment—we provide all the essentials\, including mats\, blankets\, bolsters\, blocks\, and straps\, ensuring a comfortable and hassle-free experience. Arrive a few minutes early to settle in and make the most of your session without disrupting the flow. \nDress in cozy\, stretchy attire for unrestricted movement\, and don’t forget to bring socks if you tend to get chilly. Our welcoming atmosphere welcomes drop-ins\, so join us for just $15 per class\, payable via Square\, Venmo\, or Cash. Embrace the opportunity to unwind\, recharge\, and reconnect with yourself at our serene studio. This class is perfect for beginner through advanced yogis\, no yoga experience needed.
URL:https://inspiredmindmatters.com/event/yin-yoga-meditation-with-michelle-12/2026-06-13/
ATTACH;FMTTYPE=image/png:https://inspiredmindmatters.com/wp-content/uploads/2023/05/yin-with-michelle.png
END:VEVENT
BEGIN:VEVENT
DTSTART;TZID=UTC:20260614T093000
DTEND;TZID=UTC:20260614T103000
DTSTAMP:20260420T065640
CREATED:20250517T011301Z
LAST-MODIFIED:20260321T195603Z
UID:10001163-1781429400-1781433000@inspiredmindmatters.com
SUMMARY:Breathwork Journey- The Elements at Snow Peak Campfield
DESCRIPTION:Elemental Breathwork Journey with Michelle SvendsenCost: $10 | Register through Snow Peak Campfield \nTap into the transformative power of your breath through a guided Elemental Breathwork Journey\, led by Michelle Svendsen—certified breathwork facilitator and passionate wellness guide. In this unique 4-round session\, you’ll move through over-breathing and breath retention practices\, each inspired by one of the four elements: Fire\, Wind\, Water\, and Earth. \nSet to a specially curated music set and paired with visualization techniques\, each round is designed to awaken and balance different aspects of your being: \n\n\nFire ignites your inner power and passion \n\n\nWind clears the mind and elevates your perspective \n\n\nWater washes away emotional stagnation and opens the heart \n\n\nEarth grounds your energy and deepens your connection to your body \n\n\nWhat is Somatic Breathwork?Somatic breathwork helps regulate the nervous system\, release stored tension\, and support emotional and energetic healing. Benefits include:✨ Reduced stress and anxiety✨ Improved mental clarity and focus✨ Enhanced emotional resilience✨ Deepened self-awareness✨ Boosted energy and vitality✨ A felt sense of connection to body\, mind\, and spirit \nThis journey is ideal for anyone ready to let go\, tune in\, and awaken their life force from within. \nLed by: Michelle Svendsen\, certified breathwork facilitator with a passion for teaching others how to harness the power of their breath to reconnect with their body\, mind\, and energetic field. \nTo Register: Please sign up directly with Snow Peak Campfield.Cost: $10 per session \nContact Snow Peak at – Phone: (833) 662-7624 \nLocated at 5411 Sandridge Rd\, Long Beach\, WA 98631
URL:https://inspiredmindmatters.com/event/breathwork-journey-the-elements-at-snow-peak-campfield/2026-06-14/
ATTACH;FMTTYPE=image/png:https://inspiredmindmatters.com/wp-content/uploads/2025/05/Wellness-939-x-789-px.png
END:VEVENT
BEGIN:VEVENT
DTSTART;TZID=UTC:20260614T110000
DTEND;TZID=UTC:20260614T130000
DTSTAMP:20260420T065640
CREATED:20260104T035953Z
LAST-MODIFIED:20260414T224034Z
UID:10001160-1781434800-1781442000@inspiredmindmatters.com
SUMMARY:Cold Plunge class & Soaking in Ofuro Spa at Snow Peak Campfield
DESCRIPTION:🌊 Discover the Power of the Cold Plunge at Snow Peak Campfield! ❄️ \n\nStep into a guided cold plunge experience at Snow Peak Campfield Long Beach with Michelle\, where ancient wisdom meets modern nervous-system science. Michelle intentionally holds space to help you move beyond the shock of cold and into a state of clarity\, resilience\, and calm. You’ll be supported with breath guidance\, education\, and pacing so the experience feels empowering rather than overwhelming.\n\n\n\nThis isn’t just a cold plunge — it’s a reset. Two hours in the Ofuro spa allows you to cycle between heat and cold\, helping reduce inflammation\, improve circulation\, elevate mood\, and leave you feeling grounded\, clear\, and deeply alive. If you’ve been curious but hesitant\, this is the safest\, most supportive way to begin.\n\n\n\nYou must pre-register by the morning of the session as they will get cancelled if there is no one registered for the day.\n\n$38.00 local’s price / $45.00 visitors price- Local’s call for local price. \nBring a towel and swimsuit. \nNo glass is allowed around the pool however plastic or stainless cups are allowed. \nRegister with Snow Peak Campfield directly. 1-833-662-7624 \n\nhttps://www.schedulicity.com/scheduling/SPCPYC3/workshops \n\n✨ What You’ll Learn:\n🔹 The “why” behind cold plunging and its powerful benefits.\n🔹 Contraindications to ensure a safe experience.\n🔹 Techniques to optimize your plunge.\n🔹 Breathing methods to prepare\, endure\, and thrive. \n🧘 After a brief class\, enjoy plunging with the group\, followed by free time in the Ofuro Spa’s hot soaking pool\, Japanese sauna\, or the cold plunge at your own pace. \n  \nDon’t miss this opportunity to revitalize your mind and body. 🌬️ \n  \n 
URL:https://inspiredmindmatters.com/event/cold-plunge-class-soaking-in-ofuro-spa-at-snow-peak-campfield-2-6/2026-06-14/
ATTACH;FMTTYPE=image/jpeg:https://inspiredmindmatters.com/wp-content/uploads/2026/01/web.jpg
END:VEVENT
BEGIN:VEVENT
DTSTART;TZID=UTC:20260614T153000
DTEND;TZID=UTC:20260614T170000
DTSTAMP:20260420T065640
CREATED:20260111T000334Z
LAST-MODIFIED:20260111T001121Z
UID:10001140-1781451000-1781456400@inspiredmindmatters.com
SUMMARY:Chakra Mini-Workshop Series: Crown
DESCRIPTION:Join Jenelle and Michelle as they conclude the chakras workshop series with movement\, sound\, and self-reflection. These beautifully designed 90-minute sessions from 3:30-5:00pm will explore that chakra’s role as an energy center and its influence on your daily life. \nThe Crown Chakra\, known as Sahasrara\, is the seventh energy center and is located at the top of the head. It is associated with higher awareness\, spiritual connection\, and a sense of meaning beyond the self. Often linked with the color violet or white and the element of consciousness\, this chakra connects us to universal wisdom and inner peace. When balanced\, it supports clarity\, trust\, and a deep sense of unity; when out of alignment\, it may show up as disconnection\, lack of purpose\, or spiritual doubt. \nWe will start each workshop with a centering cacao ceremony designed to help you settle onto the mat and set your intention for your practice. Inspired Mind Matters is proudly using Macaw Kakau -Cacao from Costa Rica. This is a beautiful story of sustainability and resilience that you can read about here: https://www.macawkakau.com \nNext\, enjoy a Vin2Yin session with poses connecting to the attributes of the chakra and yourself. Starting with gentle vinyasa by Jenelle\, followed by relaxing yin yoga led by Michelle. All poses are suitable for all levels. We provide all necessary mats\, bolsters\, blankets\, blocks\, and straps\, though you are welcome to bring your own. We conclude with a serene and relaxing sound bath and meditation using crystal bowls\, gongs\, chimes\, and a wave drum. \nEngaging in gentle yoga\, meditation\, and sound therapy together can amplify the benefits. Combining these practices can lead to:\n-Holistic Stress Reduction: Addressing stress from multiple angles (physical\, mental\, and emotional).\n-Enhanced Mind-Body Connection: Improving the synchronization between the mind and body.\n-Comprehensive Healing: Promoting overall health and well-being through a multi-faceted approach. \nOur workshops often sell out and we’ve curated the most beloved elements to bring you this unique opportunity\, whether you attend one or all seven chakra classes. Join us on the mat to stretch your body and mind… you deserve it! \nCost: $35.00 drop-in or $30 pre-register/pay (transferrable-yes/ refundable-no)\nLocation: the Inspired Mind Matters Wellness Studio\, 300 14th St NW\, Long beach WA\, on the Chautauqua Resort property.\nAges: 15 and up. Minors must have signed waiver from parent/guardian to participate.\nFor more information or to register and pay for classes contact michelle@inspiredmindmatters.com
URL:https://inspiredmindmatters.com/event/chakra-mini-workshop-series-crown/
ATTACH;FMTTYPE=image/jpeg:https://inspiredmindmatters.com/wp-content/uploads/2026/01/612110653_856394793817143_7769978710860302736_n.jpg
END:VEVENT
BEGIN:VEVENT
DTSTART;TZID=UTC:20260620T093000
DTEND;TZID=UTC:20260620T103000
DTSTAMP:20260420T065640
CREATED:20260321T193106Z
LAST-MODIFIED:20260414T223113Z
UID:10001169-1781947800-1781951400@inspiredmindmatters.com
SUMMARY:Yin Yoga & Meditation with Michelle
DESCRIPTION:Experience deep relaxation and revitalization with Michelle’s invigorating Yin Yoga & Meditation session\, tailored to nurture your body and mind. Discover the transformative effects of Yin Yoga as it gently stretches and releases tension in your muscles\, promoting flexibility and inner calm. Combined with weekly topics and meditation\, this practice cultivates mental clarity and emotional balance\, leaving you feeling refreshed and centered. \nNo need to worry about equipment—we provide all the essentials\, including mats\, blankets\, bolsters\, blocks\, and straps\, ensuring a comfortable and hassle-free experience. Arrive a few minutes early to settle in and make the most of your session without disrupting the flow. \nDress in cozy\, stretchy attire for unrestricted movement\, and don’t forget to bring socks if you tend to get chilly. Our welcoming atmosphere welcomes drop-ins\, so join us for just $15 per class\, payable via Square\, Venmo\, or Cash. Embrace the opportunity to unwind\, recharge\, and reconnect with yourself at our serene studio. This class is perfect for beginner through advanced yogis\, no yoga experience needed.
URL:https://inspiredmindmatters.com/event/yin-yoga-meditation-with-michelle-12/2026-06-20/
ATTACH;FMTTYPE=image/png:https://inspiredmindmatters.com/wp-content/uploads/2023/05/yin-with-michelle.png
END:VEVENT
BEGIN:VEVENT
DTSTART;TZID=UTC:20260627T093000
DTEND;TZID=UTC:20260627T103000
DTSTAMP:20260420T065640
CREATED:20260321T193106Z
LAST-MODIFIED:20260414T223113Z
UID:10001170-1782552600-1782556200@inspiredmindmatters.com
SUMMARY:Yin Yoga & Meditation with Michelle
DESCRIPTION:Experience deep relaxation and revitalization with Michelle’s invigorating Yin Yoga & Meditation session\, tailored to nurture your body and mind. Discover the transformative effects of Yin Yoga as it gently stretches and releases tension in your muscles\, promoting flexibility and inner calm. Combined with weekly topics and meditation\, this practice cultivates mental clarity and emotional balance\, leaving you feeling refreshed and centered. \nNo need to worry about equipment—we provide all the essentials\, including mats\, blankets\, bolsters\, blocks\, and straps\, ensuring a comfortable and hassle-free experience. Arrive a few minutes early to settle in and make the most of your session without disrupting the flow. \nDress in cozy\, stretchy attire for unrestricted movement\, and don’t forget to bring socks if you tend to get chilly. Our welcoming atmosphere welcomes drop-ins\, so join us for just $15 per class\, payable via Square\, Venmo\, or Cash. Embrace the opportunity to unwind\, recharge\, and reconnect with yourself at our serene studio. This class is perfect for beginner through advanced yogis\, no yoga experience needed.
URL:https://inspiredmindmatters.com/event/yin-yoga-meditation-with-michelle-12/2026-06-27/
ATTACH;FMTTYPE=image/png:https://inspiredmindmatters.com/wp-content/uploads/2023/05/yin-with-michelle.png
END:VEVENT
BEGIN:VEVENT
DTSTART;TZID=UTC:20260706T190000
DTEND;TZID=UTC:20260706T210000
DTSTAMP:20260420T065640
CREATED:20260104T035953Z
LAST-MODIFIED:20260414T224034Z
UID:10001161-1783364400-1783371600@inspiredmindmatters.com
SUMMARY:Cold Plunge class & Soaking in Ofuro Spa at Snow Peak Campfield
DESCRIPTION:🌊 Discover the Power of the Cold Plunge at Snow Peak Campfield! ❄️ \n\nStep into a guided cold plunge experience at Snow Peak Campfield Long Beach with Michelle\, where ancient wisdom meets modern nervous-system science. Michelle intentionally holds space to help you move beyond the shock of cold and into a state of clarity\, resilience\, and calm. You’ll be supported with breath guidance\, education\, and pacing so the experience feels empowering rather than overwhelming.\n\n\n\nThis isn’t just a cold plunge — it’s a reset. Two hours in the Ofuro spa allows you to cycle between heat and cold\, helping reduce inflammation\, improve circulation\, elevate mood\, and leave you feeling grounded\, clear\, and deeply alive. If you’ve been curious but hesitant\, this is the safest\, most supportive way to begin.\n\n\n\nYou must pre-register by the morning of the session as they will get cancelled if there is no one registered for the day.\n\n$38.00 local’s price / $45.00 visitors price- Local’s call for local price. \nBring a towel and swimsuit. \nNo glass is allowed around the pool however plastic or stainless cups are allowed. \nRegister with Snow Peak Campfield directly. 1-833-662-7624 \n\nhttps://www.schedulicity.com/scheduling/SPCPYC3/workshops \n\n✨ What You’ll Learn:\n🔹 The “why” behind cold plunging and its powerful benefits.\n🔹 Contraindications to ensure a safe experience.\n🔹 Techniques to optimize your plunge.\n🔹 Breathing methods to prepare\, endure\, and thrive. \n🧘 After a brief class\, enjoy plunging with the group\, followed by free time in the Ofuro Spa’s hot soaking pool\, Japanese sauna\, or the cold plunge at your own pace. \n  \nDon’t miss this opportunity to revitalize your mind and body. 🌬️ \n  \n 
URL:https://inspiredmindmatters.com/event/cold-plunge-class-soaking-in-ofuro-spa-at-snow-peak-campfield-2-6/2026-07-06/
ATTACH;FMTTYPE=image/jpeg:https://inspiredmindmatters.com/wp-content/uploads/2026/01/web.jpg
END:VEVENT
BEGIN:VEVENT
DTSTART;TZID=UTC:20260712T093000
DTEND;TZID=UTC:20260712T103000
DTSTAMP:20260420T065640
CREATED:20250517T011301Z
LAST-MODIFIED:20260321T195603Z
UID:10001164-1783848600-1783852200@inspiredmindmatters.com
SUMMARY:Breathwork Journey- The Elements at Snow Peak Campfield
DESCRIPTION:Elemental Breathwork Journey with Michelle SvendsenCost: $10 | Register through Snow Peak Campfield \nTap into the transformative power of your breath through a guided Elemental Breathwork Journey\, led by Michelle Svendsen—certified breathwork facilitator and passionate wellness guide. In this unique 4-round session\, you’ll move through over-breathing and breath retention practices\, each inspired by one of the four elements: Fire\, Wind\, Water\, and Earth. \nSet to a specially curated music set and paired with visualization techniques\, each round is designed to awaken and balance different aspects of your being: \n\n\nFire ignites your inner power and passion \n\n\nWind clears the mind and elevates your perspective \n\n\nWater washes away emotional stagnation and opens the heart \n\n\nEarth grounds your energy and deepens your connection to your body \n\n\nWhat is Somatic Breathwork?Somatic breathwork helps regulate the nervous system\, release stored tension\, and support emotional and energetic healing. Benefits include:✨ Reduced stress and anxiety✨ Improved mental clarity and focus✨ Enhanced emotional resilience✨ Deepened self-awareness✨ Boosted energy and vitality✨ A felt sense of connection to body\, mind\, and spirit \nThis journey is ideal for anyone ready to let go\, tune in\, and awaken their life force from within. \nLed by: Michelle Svendsen\, certified breathwork facilitator with a passion for teaching others how to harness the power of their breath to reconnect with their body\, mind\, and energetic field. \nTo Register: Please sign up directly with Snow Peak Campfield.Cost: $10 per session \nContact Snow Peak at – Phone: (833) 662-7624 \nLocated at 5411 Sandridge Rd\, Long Beach\, WA 98631
URL:https://inspiredmindmatters.com/event/breathwork-journey-the-elements-at-snow-peak-campfield/2026-07-12/
ATTACH;FMTTYPE=image/png:https://inspiredmindmatters.com/wp-content/uploads/2025/05/Wellness-939-x-789-px.png
END:VEVENT
BEGIN:VEVENT
DTSTART;TZID=UTC:20260712T110000
DTEND;TZID=UTC:20260712T130000
DTSTAMP:20260420T065640
CREATED:20260104T035953Z
LAST-MODIFIED:20260414T224034Z
UID:10001162-1783854000-1783861200@inspiredmindmatters.com
SUMMARY:Cold Plunge class & Soaking in Ofuro Spa at Snow Peak Campfield
DESCRIPTION:🌊 Discover the Power of the Cold Plunge at Snow Peak Campfield! ❄️ \n\nStep into a guided cold plunge experience at Snow Peak Campfield Long Beach with Michelle\, where ancient wisdom meets modern nervous-system science. Michelle intentionally holds space to help you move beyond the shock of cold and into a state of clarity\, resilience\, and calm. You’ll be supported with breath guidance\, education\, and pacing so the experience feels empowering rather than overwhelming.\n\n\n\nThis isn’t just a cold plunge — it’s a reset. Two hours in the Ofuro spa allows you to cycle between heat and cold\, helping reduce inflammation\, improve circulation\, elevate mood\, and leave you feeling grounded\, clear\, and deeply alive. If you’ve been curious but hesitant\, this is the safest\, most supportive way to begin.\n\n\n\nYou must pre-register by the morning of the session as they will get cancelled if there is no one registered for the day.\n\n$38.00 local’s price / $45.00 visitors price- Local’s call for local price. \nBring a towel and swimsuit. \nNo glass is allowed around the pool however plastic or stainless cups are allowed. \nRegister with Snow Peak Campfield directly. 1-833-662-7624 \n\nhttps://www.schedulicity.com/scheduling/SPCPYC3/workshops \n\n✨ What You’ll Learn:\n🔹 The “why” behind cold plunging and its powerful benefits.\n🔹 Contraindications to ensure a safe experience.\n🔹 Techniques to optimize your plunge.\n🔹 Breathing methods to prepare\, endure\, and thrive. \n🧘 After a brief class\, enjoy plunging with the group\, followed by free time in the Ofuro Spa’s hot soaking pool\, Japanese sauna\, or the cold plunge at your own pace. \n  \nDon’t miss this opportunity to revitalize your mind and body. 🌬️ \n  \n 
URL:https://inspiredmindmatters.com/event/cold-plunge-class-soaking-in-ofuro-spa-at-snow-peak-campfield-2-6/2026-07-12/
ATTACH;FMTTYPE=image/jpeg:https://inspiredmindmatters.com/wp-content/uploads/2026/01/web.jpg
END:VEVENT
BEGIN:VEVENT
DTSTART;TZID=UTC:20260809T093000
DTEND;TZID=UTC:20260809T103000
DTSTAMP:20260420T065640
CREATED:20250517T011301Z
LAST-MODIFIED:20260321T195603Z
UID:10001165-1786267800-1786271400@inspiredmindmatters.com
SUMMARY:Breathwork Journey- The Elements at Snow Peak Campfield
DESCRIPTION:Elemental Breathwork Journey with Michelle SvendsenCost: $10 | Register through Snow Peak Campfield \nTap into the transformative power of your breath through a guided Elemental Breathwork Journey\, led by Michelle Svendsen—certified breathwork facilitator and passionate wellness guide. In this unique 4-round session\, you’ll move through over-breathing and breath retention practices\, each inspired by one of the four elements: Fire\, Wind\, Water\, and Earth. \nSet to a specially curated music set and paired with visualization techniques\, each round is designed to awaken and balance different aspects of your being: \n\n\nFire ignites your inner power and passion \n\n\nWind clears the mind and elevates your perspective \n\n\nWater washes away emotional stagnation and opens the heart \n\n\nEarth grounds your energy and deepens your connection to your body \n\n\nWhat is Somatic Breathwork?Somatic breathwork helps regulate the nervous system\, release stored tension\, and support emotional and energetic healing. Benefits include:✨ Reduced stress and anxiety✨ Improved mental clarity and focus✨ Enhanced emotional resilience✨ Deepened self-awareness✨ Boosted energy and vitality✨ A felt sense of connection to body\, mind\, and spirit \nThis journey is ideal for anyone ready to let go\, tune in\, and awaken their life force from within. \nLed by: Michelle Svendsen\, certified breathwork facilitator with a passion for teaching others how to harness the power of their breath to reconnect with their body\, mind\, and energetic field. \nTo Register: Please sign up directly with Snow Peak Campfield.Cost: $10 per session \nContact Snow Peak at – Phone: (833) 662-7624 \nLocated at 5411 Sandridge Rd\, Long Beach\, WA 98631
URL:https://inspiredmindmatters.com/event/breathwork-journey-the-elements-at-snow-peak-campfield/2026-08-09/
ATTACH;FMTTYPE=image/png:https://inspiredmindmatters.com/wp-content/uploads/2025/05/Wellness-939-x-789-px.png
END:VEVENT
END:VCALENDAR