BEGIN:VCALENDAR
VERSION:2.0
PRODID:-//Inspired Mind Matters, LLC Personal Development &amp; Stress Management Coaching - ECPv6.15.20//NONSGML v1.0//EN
CALSCALE:GREGORIAN
METHOD:PUBLISH
X-ORIGINAL-URL:https://inspiredmindmatters.com
X-WR-CALDESC:Events for Inspired Mind Matters, LLC Personal Development &amp; Stress Management Coaching
REFRESH-INTERVAL;VALUE=DURATION:PT1H
X-Robots-Tag:noindex
X-PUBLISHED-TTL:PT1H
BEGIN:VTIMEZONE
TZID:UTC
BEGIN:STANDARD
TZOFFSETFROM:+0000
TZOFFSETTO:+0000
TZNAME:UTC
DTSTART:20220101T000000
END:STANDARD
END:VTIMEZONE
BEGIN:VEVENT
DTSTART;TZID=UTC:20230603T093000
DTEND;TZID=UTC:20230603T104500
DTSTAMP:20260422T225025
CREATED:20230509T135138Z
LAST-MODIFIED:20230531T095410Z
UID:10000034-1685784600-1685789100@inspiredmindmatters.com
SUMMARY:Yin Class
DESCRIPTION:Join Michelle for a relaxing and rejuvenating Yin Yoga & Meditation session for your body and mind. Classes are $20.00 Square\, Venmo\, or Cash. All mats\, blankets\, bolsters\, blocks\, and straps are supplied. Class starts at 9:30 am\, please arrive up to 10 minutes early as to not disrupt class after it starts. Wear comfortable stretchy clothing\, and if your feet get cold\, I recommend socks.
URL:https://inspiredmindmatters.com/event/yin-class-20/
CATEGORIES:Yin Classes
ATTACH;FMTTYPE=image/webp:https://inspiredmindmatters.com/wp-content/uploads/2023/05/yin-with-michelle.webp
END:VEVENT
BEGIN:VEVENT
DTSTART;TZID=UTC:20230605T183000
DTEND;TZID=UTC:20230605T193000
DTSTAMP:20260422T225025
CREATED:20230523T213436Z
LAST-MODIFIED:20230531T095442Z
UID:10000067-1685989800-1685993400@inspiredmindmatters.com
SUMMARY:Vinyasa Flow with Jenelle
DESCRIPTION:This practice is for all bodies and all levels. This class will meet students where they are at and allow for exploration and growth. Jenelle will guide students with props and modifications to make the class accessible for all. Students will be able to challenge themselves and find their own boundaries. Vinyasa Flow yoga emphasizes the sequential movement between postures\, coordinated with and guided by deliberate breath. The Vinyasa practice becomes a moving meditation that creates strength\, freedom and fluidity in the body and mind. Classes are $20.00\, cash or Venmo. \nPrice is $20.00
URL:https://inspiredmindmatters.com/event/vinyasa-flow-with-jenelle-2/
CATEGORIES:Yin Classes
ATTACH;FMTTYPE=image/webp:https://inspiredmindmatters.com/wp-content/uploads/2023/05/YOGA-WITh-JENELLE.webp
END:VEVENT
BEGIN:VEVENT
DTSTART;TZID=UTC:20230606T093000
DTEND;TZID=UTC:20230606T104500
DTSTAMP:20260422T225025
CREATED:20230509T135557Z
LAST-MODIFIED:20230531T095453Z
UID:10000035-1686043800-1686048300@inspiredmindmatters.com
SUMMARY:Yin Class
DESCRIPTION:Join Michelle for a relaxing and rejuvenating Yin Yoga & Meditation session for your body and mind. Classes are $20.00 Square\, Venmo\, or Cash. All mats\, blankets\, bolsters\, blocks\, and straps are supplied. Class starts at 9:30 am\, please arrive up to 10 minutes early as to not disrupt class after it starts. Wear comfortable stretchy clothing\, and if your feet get cold\, I recommend socks.
URL:https://inspiredmindmatters.com/event/yin-class-27/
CATEGORIES:Yin Classes
ATTACH;FMTTYPE=image/webp:https://inspiredmindmatters.com/wp-content/uploads/2023/05/yin-with-michelle.webp
END:VEVENT
BEGIN:VEVENT
DTSTART;TZID=UTC:20230606T133000
DTEND;TZID=UTC:20230606T143000
DTSTAMP:20260422T225025
CREATED:20230522T085551Z
LAST-MODIFIED:20230522T085824Z
UID:10000072-1686058200-1686061800@inspiredmindmatters.com
SUMMARY:Mini & Me Mindful Movement for ages 3-6 with Parent/Guardian
DESCRIPTION:You and your child or grandchild will connect in movement and mindfulness together. This is an introduction to the mat\, breathwork\, yoga\, moving with intention\, and coordination\, while still being active and having fun. Classes will be interactive and educational\, using stories\, games\, music\, and confidence building equipment. Class price is $15.00\, this includes child and adult\, each additional family sibling is $10.00 \nPrice is $15.00
URL:https://inspiredmindmatters.com/event/mini-me-mindful-movement-for-ages-3-6-with-parent-guardian/2023-06-06/
CATEGORIES:Yin Classes
ATTACH;FMTTYPE=image/png:https://inspiredmindmatters.com/wp-content/uploads/2023/05/kids-for-web.png
END:VEVENT
BEGIN:VEVENT
DTSTART;TZID=UTC:20230606T173000
DTEND;TZID=UTC:20230606T184500
DTSTAMP:20260422T225025
CREATED:20230509T142319Z
LAST-MODIFIED:20230531T095503Z
UID:10000048-1686072600-1686077100@inspiredmindmatters.com
SUMMARY:Yin Class
DESCRIPTION:Join Michelle for a relaxing and rejuvenating Yin Yoga & Meditation session for your body and mind. Classes are $20.00 Square\, Venmo\, or Cash. All mats\, blankets\, bolsters\, blocks\, and straps are supplied. Class starts at 9:30 am\, please arrive up to 10 minutes early as to not disrupt class after it starts. Wear comfortable stretchy clothing\, and if your feet get cold\, I recommend socks.
URL:https://inspiredmindmatters.com/event/yin-class-39/
CATEGORIES:Yin Classes
ATTACH;FMTTYPE=image/webp:https://inspiredmindmatters.com/wp-content/uploads/2023/05/yin-with-michelle.webp
END:VEVENT
BEGIN:VEVENT
DTSTART;TZID=UTC:20230613T093000
DTEND;TZID=UTC:20230613T104500
DTSTAMP:20260422T225025
CREATED:20230509T135934Z
LAST-MODIFIED:20230612T003407Z
UID:10000037-1686648600-1686653100@inspiredmindmatters.com
SUMMARY:Yin Class
DESCRIPTION:Join Michelle for a relaxing and rejuvenating Yin Yoga & Meditation session for your body and mind. Classes are $20.00 Square\, Venmo\, or Cash. All mats\, blankets\, bolsters\, blocks\, and straps are supplied. Class starts at 9:30 am\, please arrive up to 10 minutes early as to not disrupt class after it starts. Wear comfortable stretchy clothing\, and if your feet get cold\, I recommend socks.
URL:https://inspiredmindmatters.com/event/yin-class-29/
CATEGORIES:Yin Classes
ATTACH;FMTTYPE=image/webp:https://inspiredmindmatters.com/wp-content/uploads/2023/05/yin-with-michelle.webp
END:VEVENT
BEGIN:VEVENT
DTSTART;TZID=UTC:20230613T133000
DTEND;TZID=UTC:20230613T143000
DTSTAMP:20260422T225025
CREATED:20230522T085551Z
LAST-MODIFIED:20230522T085824Z
UID:10000073-1686663000-1686666600@inspiredmindmatters.com
SUMMARY:Mini & Me Mindful Movement for ages 3-6 with Parent/Guardian
DESCRIPTION:You and your child or grandchild will connect in movement and mindfulness together. This is an introduction to the mat\, breathwork\, yoga\, moving with intention\, and coordination\, while still being active and having fun. Classes will be interactive and educational\, using stories\, games\, music\, and confidence building equipment. Class price is $15.00\, this includes child and adult\, each additional family sibling is $10.00 \nPrice is $15.00
URL:https://inspiredmindmatters.com/event/mini-me-mindful-movement-for-ages-3-6-with-parent-guardian/2023-06-13/
CATEGORIES:Yin Classes
ATTACH;FMTTYPE=image/png:https://inspiredmindmatters.com/wp-content/uploads/2023/05/kids-for-web.png
END:VEVENT
BEGIN:VEVENT
DTSTART;TZID=UTC:20230613T173000
DTEND;TZID=UTC:20230613T184500
DTSTAMP:20260422T225025
CREATED:20230509T142425Z
LAST-MODIFIED:20230531T101301Z
UID:10000049-1686677400-1686681900@inspiredmindmatters.com
SUMMARY:Yin Class
DESCRIPTION:Join Michelle for a relaxing and rejuvenating Yin Yoga & Meditation session for your body and mind. Classes are $20.00 Square\, Venmo\, or Cash. All mats\, blankets\, bolsters\, blocks\, and straps are supplied. Class starts at 9:30 am\, please arrive up to 10 minutes early as to not disrupt class after it starts. Wear comfortable stretchy clothing\, and if your feet get cold\, I recommend socks.
URL:https://inspiredmindmatters.com/event/yin-class-40/
CATEGORIES:Yin Classes
ATTACH;FMTTYPE=image/webp:https://inspiredmindmatters.com/wp-content/uploads/2023/05/yin-with-michelle.webp
END:VEVENT
BEGIN:VEVENT
DTSTART;TZID=UTC:20230619T183000
DTEND;TZID=UTC:20230619T193000
DTSTAMP:20260422T225025
CREATED:20230523T213538Z
LAST-MODIFIED:20230531T095634Z
UID:10000068-1687199400-1687203000@inspiredmindmatters.com
SUMMARY:Vinyasa Flow with Jenelle
DESCRIPTION:This practice is for all bodies and all levels. This class will meet students where they are at and allow for exploration and growth. Jenelle will guide students with props and modifications to make the class accessible for all. Students will be able to challenge themselves and find their own boundaries. Vinyasa Flow yoga emphasizes the sequential movement between postures\, coordinated with and guided by deliberate breath. The Vinyasa practice becomes a moving meditation that creates strength\, freedom and fluidity in the body and mind. Classes are $20.00\, cash or Venmo. \nPrice is $20.00
URL:https://inspiredmindmatters.com/event/vinyasa-flow-with-jenelle-3/
CATEGORIES:Yin Classes
ATTACH;FMTTYPE=image/webp:https://inspiredmindmatters.com/wp-content/uploads/2023/05/YOGA-WITh-JENELLE.webp
END:VEVENT
BEGIN:VEVENT
DTSTART;TZID=UTC:20230620T093000
DTEND;TZID=UTC:20230620T104500
DTSTAMP:20260422T225025
CREATED:20230509T140051Z
LAST-MODIFIED:20230531T095645Z
UID:10000038-1687253400-1687257900@inspiredmindmatters.com
SUMMARY:Yin Class
DESCRIPTION:Join Michelle for a relaxing and rejuvenating Yin Yoga & Meditation session for your body and mind. Classes are $20.00 Square\, Venmo\, or Cash. All mats\, blankets\, bolsters\, blocks\, and straps are supplied. Class starts at 9:30 am\, please arrive up to 10 minutes early as to not disrupt class after it starts. Wear comfortable stretchy clothing\, and if your feet get cold\, I recommend socks.
URL:https://inspiredmindmatters.com/event/yin-class-30/
CATEGORIES:Yin Classes
ATTACH;FMTTYPE=image/webp:https://inspiredmindmatters.com/wp-content/uploads/2023/05/yin-with-michelle.webp
END:VEVENT
BEGIN:VEVENT
DTSTART;TZID=UTC:20230620T133000
DTEND;TZID=UTC:20230620T143000
DTSTAMP:20260422T225025
CREATED:20230522T085551Z
LAST-MODIFIED:20230522T085824Z
UID:10000074-1687267800-1687271400@inspiredmindmatters.com
SUMMARY:Mini & Me Mindful Movement for ages 3-6 with Parent/Guardian
DESCRIPTION:You and your child or grandchild will connect in movement and mindfulness together. This is an introduction to the mat\, breathwork\, yoga\, moving with intention\, and coordination\, while still being active and having fun. Classes will be interactive and educational\, using stories\, games\, music\, and confidence building equipment. Class price is $15.00\, this includes child and adult\, each additional family sibling is $10.00 \nPrice is $15.00
URL:https://inspiredmindmatters.com/event/mini-me-mindful-movement-for-ages-3-6-with-parent-guardian/2023-06-20/
CATEGORIES:Yin Classes
ATTACH;FMTTYPE=image/png:https://inspiredmindmatters.com/wp-content/uploads/2023/05/kids-for-web.png
END:VEVENT
BEGIN:VEVENT
DTSTART;TZID=UTC:20230620T173000
DTEND;TZID=UTC:20230620T224500
DTSTAMP:20260422T225025
CREATED:20230509T142609Z
LAST-MODIFIED:20230531T095656Z
UID:10000050-1687282200-1687301100@inspiredmindmatters.com
SUMMARY:Yin Class
DESCRIPTION:Join Michelle for a relaxing and rejuvenating Yin Yoga & Meditation session for your body and mind. Classes are $20.00 Square\, Venmo\, or Cash. All mats\, blankets\, bolsters\, blocks\, and straps are supplied. Class starts at 9:30 am\, please arrive up to 10 minutes early as to not disrupt class after it starts. Wear comfortable stretchy clothing\, and if your feet get cold\, I recommend socks.
URL:https://inspiredmindmatters.com/event/yin-class-41/
CATEGORIES:Yin Classes
ATTACH;FMTTYPE=image/webp:https://inspiredmindmatters.com/wp-content/uploads/2023/05/yin-with-michelle.webp
END:VEVENT
BEGIN:VEVENT
DTSTART;TZID=UTC:20230622T093000
DTEND;TZID=UTC:20230622T103000
DTSTAMP:20260422T225025
CREATED:20230522T084444Z
LAST-MODIFIED:20230531T095753Z
UID:10000069-1687426200-1687429800@inspiredmindmatters.com
SUMMARY:Vinyasa Flow with Jenelle
DESCRIPTION:This practice is for all bodies and all levels. This class will meet students where they are at and allow for exploration and growth. Jenelle will guide students with props and modifications to make the class accessible for all. Students will be able to challenge themselves and find their own boundaries. Vinyasa Flow yoga emphasizes the sequential movement between postures\, coordinated with and guided by deliberate breath. The Vinyasa practice becomes a moving meditation that creates strength\, freedom and fluidity in the body and mind. Classes are $20.00\, cash or Venmo. \nPrice is $20.00
URL:https://inspiredmindmatters.com/event/vinyasa-flow-with-jenelle/2023-06-22/
CATEGORIES:Yin Classes
ATTACH;FMTTYPE=image/webp:https://inspiredmindmatters.com/wp-content/uploads/2023/05/YOGA-WITh-JENELLE.webp
END:VEVENT
BEGIN:VEVENT
DTSTART;TZID=UTC:20230624T093000
DTEND;TZID=UTC:20230624T104500
DTSTAMP:20260422T225025
CREATED:20230509T140219Z
LAST-MODIFIED:20230531T095811Z
UID:10000039-1687599000-1687603500@inspiredmindmatters.com
SUMMARY:Yin Class
DESCRIPTION:Join Michelle for a relaxing and rejuvenating Yin Yoga & Meditation session for your body and mind. Classes are $20.00 Square\, Venmo\, or Cash. All mats\, blankets\, bolsters\, blocks\, and straps are supplied. Class starts at 9:30 am\, please arrive up to 10 minutes early as to not disrupt class after it starts. Wear comfortable stretchy clothing\, and if your feet get cold\, I recommend socks.
URL:https://inspiredmindmatters.com/event/yin-class-31/
CATEGORIES:Yin Classes
ATTACH;FMTTYPE=image/webp:https://inspiredmindmatters.com/wp-content/uploads/2023/05/yin-with-michelle.webp
END:VEVENT
BEGIN:VEVENT
DTSTART;TZID=UTC:20230626T183000
DTEND;TZID=UTC:20230626T193000
DTSTAMP:20260422T225025
CREATED:20230527T152103Z
LAST-MODIFIED:20230531T095829Z
UID:10000080-1687804200-1687807800@inspiredmindmatters.com
SUMMARY:Vinyasa Flow with Jenelle
DESCRIPTION:This practice is for all bodies and all levels. This class will meet students where they are at and allow for exploration and growth. Jenelle will guide students with props and modifications to make the class accessible for all. Students will be able to challenge themselves and find their own boundaries. Vinyasa Flow yoga emphasizes the sequential movement between postures\, coordinated with and guided by deliberate breath. The Vinyasa practice becomes a moving meditation that creates strength\, freedom and fluidity in the body and mind. Classes are $20.00\, cash or Venmo. \nPrice is $20.00
URL:https://inspiredmindmatters.com/event/vinyasa-flow-with-jenelle-4-2/
CATEGORIES:Yin Classes
ATTACH;FMTTYPE=image/webp:https://inspiredmindmatters.com/wp-content/uploads/2023/05/YOGA-WITh-JENELLE.webp
END:VEVENT
BEGIN:VEVENT
DTSTART;TZID=UTC:20230627T093000
DTEND;TZID=UTC:20230627T104500
DTSTAMP:20260422T225025
CREATED:20230509T140629Z
LAST-MODIFIED:20230531T095839Z
UID:10000040-1687858200-1687862700@inspiredmindmatters.com
SUMMARY:Yin Class
DESCRIPTION:Join Michelle for a relaxing and rejuvenating Yin Yoga & Meditation session for your body and mind. Classes are $20.00 Square\, Venmo\, or Cash. All mats\, blankets\, bolsters\, blocks\, and straps are supplied. Class starts at 9:30 am\, please arrive up to 10 minutes early as to not disrupt class after it starts. Wear comfortable stretchy clothing\, and if your feet get cold\, I recommend socks.
URL:https://inspiredmindmatters.com/event/735/
CATEGORIES:Yin Classes
ATTACH;FMTTYPE=image/webp:https://inspiredmindmatters.com/wp-content/uploads/2023/05/yin-with-michelle.webp
END:VEVENT
BEGIN:VEVENT
DTSTART;TZID=UTC:20230627T133000
DTEND;TZID=UTC:20230627T143000
DTSTAMP:20260422T225025
CREATED:20230522T085551Z
LAST-MODIFIED:20230522T085824Z
UID:10000075-1687872600-1687876200@inspiredmindmatters.com
SUMMARY:Mini & Me Mindful Movement for ages 3-6 with Parent/Guardian
DESCRIPTION:You and your child or grandchild will connect in movement and mindfulness together. This is an introduction to the mat\, breathwork\, yoga\, moving with intention\, and coordination\, while still being active and having fun. Classes will be interactive and educational\, using stories\, games\, music\, and confidence building equipment. Class price is $15.00\, this includes child and adult\, each additional family sibling is $10.00 \nPrice is $15.00
URL:https://inspiredmindmatters.com/event/mini-me-mindful-movement-for-ages-3-6-with-parent-guardian/2023-06-27/
CATEGORIES:Yin Classes
ATTACH;FMTTYPE=image/png:https://inspiredmindmatters.com/wp-content/uploads/2023/05/kids-for-web.png
END:VEVENT
BEGIN:VEVENT
DTSTART;TZID=UTC:20230627T173000
DTEND;TZID=UTC:20230627T184500
DTSTAMP:20260422T225025
CREATED:20230509T142726Z
LAST-MODIFIED:20230531T095848Z
UID:10000051-1687887000-1687891500@inspiredmindmatters.com
SUMMARY:Yin Class
DESCRIPTION:Join Michelle for a relaxing and rejuvenating Yin Yoga & Meditation session for your body and mind. Classes are $20.00 Square\, Venmo\, or Cash. All mats\, blankets\, bolsters\, blocks\, and straps are supplied. Class starts at 9:30 am\, please arrive up to 10 minutes early as to not disrupt class after it starts. Wear comfortable stretchy clothing\, and if your feet get cold\, I recommend socks.
URL:https://inspiredmindmatters.com/event/yin-class-42/
CATEGORIES:Yin Classes
ATTACH;FMTTYPE=image/webp:https://inspiredmindmatters.com/wp-content/uploads/2023/05/yin-with-michelle.webp
END:VEVENT
BEGIN:VEVENT
DTSTART;TZID=UTC:20230629T093000
DTEND;TZID=UTC:20230629T103000
DTSTAMP:20260422T225025
CREATED:20230531T095903Z
LAST-MODIFIED:20230531T095904Z
UID:10000071-1688031000-1688034600@inspiredmindmatters.com
SUMMARY:Vinyasa Flow with Jenelle
DESCRIPTION:This practice is for all bodies and all levels. This class will meet students where they are at and allow for exploration and growth. Jenelle will guide students with props and modifications to make the class accessible for all. Students will be able to challenge themselves and find their own boundaries. Vinyasa Flow yoga emphasizes the sequential movement between postures\, coordinated with and guided by deliberate breath. The Vinyasa practice becomes a moving meditation that creates strength\, freedom and fluidity in the body and mind. Classes are $20.00\, cash or Venmo. \nPrice is $20.00
URL:https://inspiredmindmatters.com/event/vinyasa-flow-with-jenelle-7/
CATEGORIES:Yin Classes
ATTACH;FMTTYPE=image/webp:https://inspiredmindmatters.com/wp-content/uploads/2023/05/YOGA-WITh-JENELLE.webp
END:VEVENT
BEGIN:VEVENT
DTSTART;TZID=UTC:20230701T093000
DTEND;TZID=UTC:20230701T104500
DTSTAMP:20260422T225025
CREATED:20230509T140900Z
LAST-MODIFIED:20230531T095914Z
UID:10000041-1688203800-1688208300@inspiredmindmatters.com
SUMMARY:Yin Class
DESCRIPTION:Join Michelle for a relaxing and rejuvenating Yin Yoga & Meditation session for your body and mind. Classes are $20.00 Square\, Venmo\, or Cash. All mats\, blankets\, bolsters\, blocks\, and straps are supplied. Class starts at 9:30 am\, please arrive up to 10 minutes early as to not disrupt class after it starts. Wear comfortable stretchy clothing\, and if your feet get cold\, I recommend socks.
URL:https://inspiredmindmatters.com/event/yin-class-32/
CATEGORIES:Yin Classes
ATTACH;FMTTYPE=image/webp:https://inspiredmindmatters.com/wp-content/uploads/2023/05/yin-with-michelle.webp
END:VEVENT
BEGIN:VEVENT
DTSTART;TZID=UTC:20230708T093000
DTEND;TZID=UTC:20230708T104500
DTSTAMP:20260422T225025
CREATED:20230509T141006Z
LAST-MODIFIED:20230531T100017Z
UID:10000042-1688808600-1688813100@inspiredmindmatters.com
SUMMARY:Yin Class
DESCRIPTION:Join Michelle for a relaxing and rejuvenating Yin Yoga & Meditation session for your body and mind. Classes are $20.00 Square\, Venmo\, or Cash. All mats\, blankets\, bolsters\, blocks\, and straps are supplied. Class starts at 9:30 am\, please arrive up to 10 minutes early as to not disrupt class after it starts. Wear comfortable stretchy clothing\, and if your feet get cold\, I recommend socks.
URL:https://inspiredmindmatters.com/event/yin-class-33/
CATEGORIES:Yin Classes
ATTACH;FMTTYPE=image/webp:https://inspiredmindmatters.com/wp-content/uploads/2023/05/yin-with-michelle.webp
END:VEVENT
BEGIN:VEVENT
DTSTART;TZID=UTC:20230711T093000
DTEND;TZID=UTC:20230711T104500
DTSTAMP:20260422T225025
CREATED:20230509T141126Z
LAST-MODIFIED:20230522T090954Z
UID:10000043-1689067800-1689072300@inspiredmindmatters.com
SUMMARY:Yin Class
DESCRIPTION:Join Michelle for a relaxing and rejuvenating Yin Yoga & Meditation session for your body and mind. Classes are $20.00 Square\, Venmo\, or Cash. All mats\, blankets\, bolsters\, blocks\, and straps are supplied. Class starts at 9:30 am\, please arrive up to 10 minutes early as to not disrupt class after it starts. Wear comfortable stretchy clothing\, and if your feet get cold\, I recommend socks.
URL:https://inspiredmindmatters.com/event/yin-class-34/
CATEGORIES:Yin Classes
ATTACH;FMTTYPE=image/png:https://inspiredmindmatters.com/wp-content/uploads/2023/03/yin-with-michelle.png
END:VEVENT
BEGIN:VEVENT
DTSTART;TZID=UTC:20230711T133000
DTEND;TZID=UTC:20230711T143000
DTSTAMP:20260422T225025
CREATED:20230522T085551Z
LAST-MODIFIED:20230522T085824Z
UID:10000076-1689082200-1689085800@inspiredmindmatters.com
SUMMARY:Mini & Me Mindful Movement for ages 3-6 with Parent/Guardian
DESCRIPTION:You and your child or grandchild will connect in movement and mindfulness together. This is an introduction to the mat\, breathwork\, yoga\, moving with intention\, and coordination\, while still being active and having fun. Classes will be interactive and educational\, using stories\, games\, music\, and confidence building equipment. Class price is $15.00\, this includes child and adult\, each additional family sibling is $10.00 \nPrice is $15.00
URL:https://inspiredmindmatters.com/event/mini-me-mindful-movement-for-ages-3-6-with-parent-guardian/2023-07-11/
CATEGORIES:Yin Classes
ATTACH;FMTTYPE=image/png:https://inspiredmindmatters.com/wp-content/uploads/2023/05/kids-for-web.png
END:VEVENT
BEGIN:VEVENT
DTSTART;TZID=UTC:20230711T173000
DTEND;TZID=UTC:20230711T184500
DTSTAMP:20260422T225025
CREATED:20230509T142858Z
LAST-MODIFIED:20230522T090756Z
UID:10000052-1689096600-1689101100@inspiredmindmatters.com
SUMMARY:Yin Class
DESCRIPTION:Join Michelle for a relaxing and rejuvenating Yin Yoga & Meditation session for your body and mind. Classes are $20.00 Square\, Venmo\, or Cash. All mats\, blankets\, bolsters\, blocks\, and straps are supplied. Class starts at 9:30 am\, please arrive up to 10 minutes early as to not disrupt class after it starts. Wear comfortable stretchy clothing\, and if your feet get cold\, I recommend socks.
URL:https://inspiredmindmatters.com/event/yin-class-43/
CATEGORIES:Yin Classes
ATTACH;FMTTYPE=image/png:https://inspiredmindmatters.com/wp-content/uploads/2023/03/yin-with-michelle.png
END:VEVENT
BEGIN:VEVENT
DTSTART;TZID=UTC:20230715T093000
DTEND;TZID=UTC:20230715T104500
DTSTAMP:20260422T225025
CREATED:20230509T141344Z
LAST-MODIFIED:20230522T090942Z
UID:10000044-1689413400-1689417900@inspiredmindmatters.com
SUMMARY:Yin Class
DESCRIPTION:Join Michelle for a relaxing and rejuvenating Yin Yoga & Meditation session for your body and mind. Classes are $20.00 Square\, Venmo\, or Cash. All mats\, blankets\, bolsters\, blocks\, and straps are supplied. Class starts at 9:30 am\, please arrive up to 10 minutes early as to not disrupt class after it starts. Wear comfortable stretchy clothing\, and if your feet get cold\, I recommend socks.
URL:https://inspiredmindmatters.com/event/yin-class-35/
CATEGORIES:Yin Classes
ATTACH;FMTTYPE=image/png:https://inspiredmindmatters.com/wp-content/uploads/2023/03/yin-with-michelle.png
END:VEVENT
BEGIN:VEVENT
DTSTART;TZID=UTC:20230718T093000
DTEND;TZID=UTC:20230718T104500
DTSTAMP:20260422T225025
CREATED:20230509T141453Z
LAST-MODIFIED:20230522T090928Z
UID:10000045-1689672600-1689677100@inspiredmindmatters.com
SUMMARY:Yin Class
DESCRIPTION:Join Michelle for a relaxing and rejuvenating Yin Yoga & Meditation session for your body and mind. Classes are $20.00 Square\, Venmo\, or Cash. All mats\, blankets\, bolsters\, blocks\, and straps are supplied. Class starts at 9:30 am\, please arrive up to 10 minutes early as to not disrupt class after it starts. Wear comfortable stretchy clothing\, and if your feet get cold\, I recommend socks.
URL:https://inspiredmindmatters.com/event/yin-class-36/
CATEGORIES:Yin Classes
ATTACH;FMTTYPE=image/png:https://inspiredmindmatters.com/wp-content/uploads/2023/03/yin-with-michelle.png
END:VEVENT
BEGIN:VEVENT
DTSTART;TZID=UTC:20230718T133000
DTEND;TZID=UTC:20230718T143000
DTSTAMP:20260422T225025
CREATED:20230522T085551Z
LAST-MODIFIED:20230522T085824Z
UID:10000077-1689687000-1689690600@inspiredmindmatters.com
SUMMARY:Mini & Me Mindful Movement for ages 3-6 with Parent/Guardian
DESCRIPTION:You and your child or grandchild will connect in movement and mindfulness together. This is an introduction to the mat\, breathwork\, yoga\, moving with intention\, and coordination\, while still being active and having fun. Classes will be interactive and educational\, using stories\, games\, music\, and confidence building equipment. Class price is $15.00\, this includes child and adult\, each additional family sibling is $10.00 \nPrice is $15.00
URL:https://inspiredmindmatters.com/event/mini-me-mindful-movement-for-ages-3-6-with-parent-guardian/2023-07-18/
CATEGORIES:Yin Classes
ATTACH;FMTTYPE=image/png:https://inspiredmindmatters.com/wp-content/uploads/2023/05/kids-for-web.png
END:VEVENT
BEGIN:VEVENT
DTSTART;TZID=UTC:20230718T173000
DTEND;TZID=UTC:20230718T184500
DTSTAMP:20260422T225025
CREATED:20230509T143026Z
LAST-MODIFIED:20230522T090758Z
UID:10000053-1689701400-1689705900@inspiredmindmatters.com
SUMMARY:Yin Class
DESCRIPTION:Join Michelle for a relaxing and rejuvenating Yin Yoga & Meditation session for your body and mind. Classes are $20.00 Square\, Venmo\, or Cash. All mats\, blankets\, bolsters\, blocks\, and straps are supplied. Class starts at 9:30 am\, please arrive up to 10 minutes early as to not disrupt class after it starts. Wear comfortable stretchy clothing\, and if your feet get cold\, I recommend socks.
URL:https://inspiredmindmatters.com/event/yin-class-44/
CATEGORIES:Yin Classes
ATTACH;FMTTYPE=image/png:https://inspiredmindmatters.com/wp-content/uploads/2023/03/yin-with-michelle.png
END:VEVENT
BEGIN:VEVENT
DTSTART;TZID=UTC:20230722T093000
DTEND;TZID=UTC:20230722T104500
DTSTAMP:20260422T225025
CREATED:20230509T141732Z
LAST-MODIFIED:20230720T203407Z
UID:10000046-1690018200-1690022700@inspiredmindmatters.com
SUMMARY:Yin Class
DESCRIPTION:Join Michelle for a relaxing and rejuvenating Yin Yoga & Meditation session for your body and mind. Classes are $15.00 Square\, Venmo\, or Cash. All mats\, blankets\, bolsters\, blocks\, and straps are supplied. Class starts at 9:30 am\, please arrive up to 10 minutes early as to not disrupt class after it starts. Wear comfortable stretchy clothing\, and if your feet get cold\, I recommend socks.
URL:https://inspiredmindmatters.com/event/yin-class-37/
CATEGORIES:Yin Classes
ATTACH;FMTTYPE=image/png:https://inspiredmindmatters.com/wp-content/uploads/2023/03/yin-with-michelle.png
END:VEVENT
BEGIN:VEVENT
DTSTART;TZID=UTC:20230725T133000
DTEND;TZID=UTC:20230725T143000
DTSTAMP:20260422T225025
CREATED:20230522T085551Z
LAST-MODIFIED:20230522T085824Z
UID:10000078-1690291800-1690295400@inspiredmindmatters.com
SUMMARY:Mini & Me Mindful Movement for ages 3-6 with Parent/Guardian
DESCRIPTION:You and your child or grandchild will connect in movement and mindfulness together. This is an introduction to the mat\, breathwork\, yoga\, moving with intention\, and coordination\, while still being active and having fun. Classes will be interactive and educational\, using stories\, games\, music\, and confidence building equipment. Class price is $15.00\, this includes child and adult\, each additional family sibling is $10.00 \nPrice is $15.00
URL:https://inspiredmindmatters.com/event/mini-me-mindful-movement-for-ages-3-6-with-parent-guardian/2023-07-25/
CATEGORIES:Yin Classes
ATTACH;FMTTYPE=image/png:https://inspiredmindmatters.com/wp-content/uploads/2023/05/kids-for-web.png
END:VEVENT
END:VCALENDAR