BEGIN:VCALENDAR
VERSION:2.0
PRODID:-//Inspired Mind Matters, LLC Personal Development &amp; Stress Management Coaching - ECPv6.15.20//NONSGML v1.0//EN
CALSCALE:GREGORIAN
METHOD:PUBLISH
X-WR-CALNAME:Inspired Mind Matters, LLC Personal Development &amp; Stress Management Coaching
X-ORIGINAL-URL:https://inspiredmindmatters.com
X-WR-CALDESC:Events for Inspired Mind Matters, LLC Personal Development &amp; Stress Management Coaching
REFRESH-INTERVAL;VALUE=DURATION:PT1H
X-Robots-Tag:noindex
X-PUBLISHED-TTL:PT1H
BEGIN:VTIMEZONE
TZID:UTC
BEGIN:STANDARD
TZOFFSETFROM:+0000
TZOFFSETTO:+0000
TZNAME:UTC
DTSTART:20220101T000000
END:STANDARD
END:VTIMEZONE
BEGIN:VEVENT
DTSTART;TZID=UTC:20230801T093000
DTEND;TZID=UTC:20230801T104500
DTSTAMP:20260421T232721
CREATED:20230708T040857Z
LAST-MODIFIED:20230731T200757Z
UID:10000165-1690882200-1690886700@inspiredmindmatters.com
SUMMARY:Yin Yoga & Meditation with Michelle
DESCRIPTION:Join Michelle for a relaxing and rejuvenating Yin Yoga & Meditation session for your body and mind. Classes are $15.00 Square\, Venmo\, or Cash. All mats\, blankets\, bolsters\, blocks\, and straps are supplied. Class starts at 9:30 am\, please arrive up to 10 minutes early as to not disrupt class after it starts. Wear comfortable stretchy clothing\, and if your feet get cold\, I recommend socks.
URL:https://inspiredmindmatters.com/event/yin-yoga-meditation-with-michelle-3/2023-08-01/
CATEGORIES:Yin Classes
ATTACH;FMTTYPE=image/png:https://inspiredmindmatters.com/wp-content/uploads/2023/07/yin-with-michelle.png
END:VEVENT
BEGIN:VEVENT
DTSTART;TZID=UTC:20230801T173000
DTEND;TZID=UTC:20230801T184500
DTSTAMP:20260421T232721
CREATED:20230707T065133Z
LAST-MODIFIED:20230708T001337Z
UID:10000158-1690911000-1690915500@inspiredmindmatters.com
SUMMARY:Yin Yoga & Meditation with Michelle
DESCRIPTION:Join Michelle for a relaxing and rejuvenating Yin Yoga & Meditation session for your body and mind. \nClasses are $20.00 Square\, Venmo\, or Cash. All mats\, blankets\, bolsters\, blocks\, and straps are supplied. Class starts at 9:30 am\, please arrive up to 10 minutes early as to not disrupt class after it starts. Wear comfortable stretchy clothing\, and if your feet get cold\, I recommend socks.
URL:https://inspiredmindmatters.com/event/yin-yoga-meditation-with-michelle-2/2023-08-01/
CATEGORIES:Yin Classes
ATTACH;FMTTYPE=image/png:https://inspiredmindmatters.com/wp-content/uploads/2023/07/yin-with-michelle.png
END:VEVENT
END:VCALENDAR