BEGIN:VCALENDAR
VERSION:2.0
PRODID:-//Inspired Mind Matters, LLC Personal Development &amp; Stress Management Coaching - ECPv6.15.20//NONSGML v1.0//EN
CALSCALE:GREGORIAN
METHOD:PUBLISH
X-ORIGINAL-URL:https://inspiredmindmatters.com
X-WR-CALDESC:Events for Inspired Mind Matters, LLC Personal Development &amp; Stress Management Coaching
REFRESH-INTERVAL;VALUE=DURATION:PT1H
X-Robots-Tag:noindex
X-PUBLISHED-TTL:PT1H
BEGIN:VTIMEZONE
TZID:UTC
BEGIN:STANDARD
TZOFFSETFROM:+0000
TZOFFSETTO:+0000
TZNAME:UTC
DTSTART:20250101T000000
END:STANDARD
END:VTIMEZONE
BEGIN:VEVENT
DTSTART;TZID=UTC:20260503T153000
DTEND;TZID=UTC:20260503T170000
DTSTAMP:20260419T214654
CREATED:20260110T235744Z
LAST-MODIFIED:20260110T235744Z
UID:10001138-1777822200-1777827600@inspiredmindmatters.com
SUMMARY:Chakra Mini-Workshop Series: Throat
DESCRIPTION:Join Jenelle and Michelle as they lead you through the chakras with movement\, sound\, and self-reflection. These beautifully designed 90-minute sessions from 3:30-5:00pm will explore that chakra’s role as an energy center and its influence on your daily life. \nThe Throat Chakra\, called Vishuddha\, is the fifth energy center and is located at the throat. It governs communication\, self-expression\, truth\, and the ability to speak and live authentically. Associated with the element of ether and the color blue\, this chakra supports clear expression and deep listening. When balanced\, it allows for honest communication and creative expression; when out of alignment\, it may show up as difficulty speaking one’s truth\, fear of being heard\, or physical discomfort in the throat or neck. \nWe will start each workshop with a centering cacao ceremony designed to help you settle onto the mat and set your intention for your practice. Inspired Mind Matters is proudly using Macaw Kakau -Cacao from Costa Rica. This is a beautiful story of sustainability and resilience that you can read about here:https://www.macawkakau.com \nNext\, enjoy a Vin2Yin session with poses connecting to the attributes of the chakra and yourself. Starting with gentle vinyasa by Jenelle\, followed by relaxing yin yoga led by Michelle. All poses are suitable for all levels. We provide all necessary mats\, bolsters\, blankets\, blocks\, and straps\, though you are welcome to bring your own. We conclude with a serene and relaxing sound bath and meditation using crystal bowls\, gongs\, chimes\, and a wave drum. \nEngaging in gentle yoga\, meditation\, and sound therapy together can amplify the benefits. Combining these practices can lead to:\n-Holistic Stress Reduction: Addressing stress from multiple angles (physical\, mental\, and emotional).\n-Enhanced Mind-Body Connection: Improving the synchronization between the mind and body.\n-Comprehensive Healing: Promoting overall health and well-being through a multi-faceted approach. \nOur workshops often sell out and we’ve curated the most beloved elements to bring you this unique opportunity\, whether you attend one or all seven chakra classes. Join us on the mat to stretch your body and mind… you deserve it! \nCost: $35.00 drop-in or $30 pre-register/pay (transferrable-yes/ refundable-no)\nLocation: the Inspired Mind Matters Wellness Studio\, 300 14th St NW\, Long beach WA\, on the Chautauqua Resort property.\nAges: 15 and up. Minors must have signed waiver from parent/guardian to participate.\nFor more information or to register and pay for classes contact michelle@inspiredmindmatters.com
URL:https://inspiredmindmatters.com/event/chakra-mini-workshop-series-throat/
ATTACH;FMTTYPE=image/jpeg:https://inspiredmindmatters.com/wp-content/uploads/2026/01/612110653_856394793817143_7769978710860302736_n.jpg
END:VEVENT
END:VCALENDAR