BEGIN:VCALENDAR
VERSION:2.0
PRODID:-//Inspired Mind Matters, LLC Personal Development &amp; Stress Management Coaching - ECPv6.15.20//NONSGML v1.0//EN
CALSCALE:GREGORIAN
METHOD:PUBLISH
X-ORIGINAL-URL:https://inspiredmindmatters.com
X-WR-CALDESC:Events for Inspired Mind Matters, LLC Personal Development &amp; Stress Management Coaching
REFRESH-INTERVAL;VALUE=DURATION:PT1H
X-Robots-Tag:noindex
X-PUBLISHED-TTL:PT1H
BEGIN:VTIMEZONE
TZID:UTC
BEGIN:STANDARD
TZOFFSETFROM:+0000
TZOFFSETTO:+0000
TZNAME:UTC
DTSTART:20230101T000000
END:STANDARD
END:VTIMEZONE
BEGIN:VEVENT
DTSTART;TZID=UTC:20240526T093000
DTEND;TZID=UTC:20240526T103000
DTSTAMP:20260420T200458
CREATED:20240213T041040Z
LAST-MODIFIED:20240815T192119Z
UID:10000935-1716715800-1716719400@inspiredmindmatters.com
SUMMARY:Vitality Flow: An Encouraging Journey through Movement to Flexibility and Strength
DESCRIPTION:An integrated practice. Using mobility exercises\, gentle strength building\, and self-myofascial (SMR) release. We move through the body and mind while connecting to breath. This practice is for everyone to explore and learn. It is rooted in the foundation of yoga and inspired by decades of living life on this planet. Come as you are. All bodies and levels welcome. No prior experience necessary. Cash or Venmo\, Cost $20.00 Drop-ins welcome. \n  \nEnhance your mental and physical well-being with the ancient practice of yoga. Regular yoga practice has been shown to reduce stress\, improve flexibility\, and increase strength. By synchronizing movement with breath\, yoga helps to calm the mind\, promoting relaxation and mental clarity. Furthermore\, the physical postures\, or asanas\, support the body’s natural detoxification process\, aiding in the removal of toxins and promoting overall health. Experience the transformative benefits of yoga for yourself and discover a renewed sense of vitality and well-being.
URL:https://inspiredmindmatters.com/event/simply-yoga-with-jenelle-10-2/2024-05-26/
ATTACH;FMTTYPE=image/png:https://inspiredmindmatters.com/wp-content/uploads/2023/12/YOGA-WITH-CASSANDRA-11.png
END:VEVENT
BEGIN:VEVENT
DTSTART;TZID=UTC:20240526T113000
DTEND;TZID=UTC:20240526T130000
DTSTAMP:20260420T200458
CREATED:20240201T201354Z
LAST-MODIFIED:20240422T044521Z
UID:10000937-1716723000-1716728400@inspiredmindmatters.com
SUMMARY:Somatic Breathwork Journey and Optional Cold plunge with Michelle
DESCRIPTION:Join Michelle as she leads you on a Breathwork Journey to harness the energy and growth of spring. This session will include a variety of breathwork to get you energetically aligned and in a beautiful flow state\, helping you find clarity and focus for growth as well as deep relaxation.\n\nIt will start with a description of why and how to use the breathing methods\, including the benefits\, and contraindications for breath retentions. You will be guided through a short meditation to relax you into your journey.\n\nAs we start breathing with the specially selected music you may feel sensations\, have thoughts of visions\, and feel complete relaxation and sometimes pure bliss and/or euphoria. The outcomes are different for everyone as it is a deeply personal experience. Breathing in this manner is a powerful tool in the release of stress and anxiety. Every effort will be made to ensure you feel safe and supported throughout your journey no matter where it takes you.\n\nLearn how to manage your stress response\, teach your body to use oxygen more efficiently\, strengthen lung capacity\, improve heart rate\, and blood pressure\, and tap into your own feel-good chemicals all with your own breath! What to Wear/Bring: Dress comfortably!\n\nWe have eye masks\, yoga mats and blankets for you but feel free to bring pillows\, blankets\, and any props that may make you more comfortable. Often people go between hot and cold while practicing breathwork so we recommend socks. Towels\, water and hot tea will be provided.\n\nCost and Session Length: This is a 1.5 hour session with plunge.\nDrop in welcome or pre-register by emailing michelle@inspiredmindmatters.com\n$40 includes optional cold plunge afterwards!\n\nOptional Cold Plunge in one of our 2 personal portable cold tubs located in the studio patio.\nBenefits to cold plunge include but are not limited to:Reduce inflammation and swellingPromote lymphatic drainageRegulate hormonesAccelerate metabolismStress ReductionImproves sleep and skinReleases dopamine and endorphinsHelps improve your stress response\n\nContraindications for over breathing\, breath retentions\, and cold therapy are below and check with your doctor to see if breathwork and cold therapy are safe options for you: Breathwork is not advised for persons with a history of cardiovascular disease\, including angina or heart attack\, family history of aneurysms\, severe asthma\, high blood pressure\, glaucoma\, retinal detachment\, osteoporosis\, significant recent physical injuries\, or surgery without first speaking with a medical professional. For people with severe mental illness\, seizure disorders or for people prescribed certain medications. Consult your physician if you are pregnant before starting any kind of breathwork.\nCold therapy is not advised for anyone with cardiovascular disease\, have heart disease\, currently pregnant\, have Reynaud’s Syndrome\, have high blood pressure\, have circulatory problems\, have a pacemaker\, have hypertension\, or have an open wound.\n\nClass time: 11:30-12:30\, plunge 12:30-1:00\nCost: $40.00
URL:https://inspiredmindmatters.com/event/somatic-breathwork-journey-and-optional-cold-plunge-with-michelle/2024-05-26/
ATTACH;FMTTYPE=image/png:https://inspiredmindmatters.com/wp-content/uploads/2023/07/breathwork-web-pic.png
END:VEVENT
END:VCALENDAR