BEGIN:VCALENDAR
VERSION:2.0
PRODID:-//Inspired Mind Matters, LLC Personal Development &amp; Stress Management Coaching - ECPv6.15.20//NONSGML v1.0//EN
CALSCALE:GREGORIAN
METHOD:PUBLISH
X-WR-CALNAME:Inspired Mind Matters, LLC Personal Development &amp; Stress Management Coaching
X-ORIGINAL-URL:https://inspiredmindmatters.com
X-WR-CALDESC:Events for Inspired Mind Matters, LLC Personal Development &amp; Stress Management Coaching
REFRESH-INTERVAL;VALUE=DURATION:PT1H
X-Robots-Tag:noindex
X-PUBLISHED-TTL:PT1H
BEGIN:VTIMEZONE
TZID:UTC
BEGIN:STANDARD
TZOFFSETFROM:+0000
TZOFFSETTO:+0000
TZNAME:UTC
DTSTART:20230101T000000
END:STANDARD
END:VTIMEZONE
BEGIN:VEVENT
DTSTART;TZID=UTC:20240421T093000
DTEND;TZID=UTC:20240421T103000
DTSTAMP:20260420T214921
CREATED:20240213T041040Z
LAST-MODIFIED:20240815T192119Z
UID:10000925-1713691800-1713695400@inspiredmindmatters.com
SUMMARY:Vitality Flow: An Encouraging Journey through Movement to Flexibility and Strength
DESCRIPTION:An integrated practice. Using mobility exercises\, gentle strength building\, and self-myofascial (SMR) release. We move through the body and mind while connecting to breath. This practice is for everyone to explore and learn. It is rooted in the foundation of yoga and inspired by decades of living life on this planet. Come as you are. All bodies and levels welcome. No prior experience necessary. Cash or Venmo\, Cost $20.00 Drop-ins welcome. \n  \nEnhance your mental and physical well-being with the ancient practice of yoga. Regular yoga practice has been shown to reduce stress\, improve flexibility\, and increase strength. By synchronizing movement with breath\, yoga helps to calm the mind\, promoting relaxation and mental clarity. Furthermore\, the physical postures\, or asanas\, support the body’s natural detoxification process\, aiding in the removal of toxins and promoting overall health. Experience the transformative benefits of yoga for yourself and discover a renewed sense of vitality and well-being.
URL:https://inspiredmindmatters.com/event/simply-yoga-with-jenelle-10-2/2024-04-21/
ATTACH;FMTTYPE=image/png:https://inspiredmindmatters.com/wp-content/uploads/2023/12/YOGA-WITH-CASSANDRA-11.png
END:VEVENT
BEGIN:VEVENT
DTSTART;TZID=UTC:20240421T104500
DTEND;TZID=UTC:20240421T114500
DTSTAMP:20260420T214921
CREATED:20240221T050850Z
LAST-MODIFIED:20241015T011705Z
UID:10000928-1713696300-1713699900@inspiredmindmatters.com
SUMMARY:Sound Bath Journey with Jenelle
DESCRIPTION:Step into a realm of tranquility and rejuvenation at our wellness studio\, where we invite you to experience the transformative power of sound baths. Our sessions begin with gentle movements and calming breathwork\, guiding you into a state of deep relaxation. \nWrapped in cozy blankets and supported by plush props\, you’ll find comfort as you surrender to the soothing vibrations that permeate the room. Whether you bring your own blankets and pillows or utilize our studio’s offerings\, we ensure your comfort throughout the session. \nDressed in layers for optimal coziness\, with socks to keep you grounded\, you’ll embark on a journey of sensory bliss. Allow yourself to be enveloped by the harmonious waves of sound\, as they gently coax your body and mind into a state of profound rest and rejuvenation. \nAccessible to all\, our sound baths offer a sanctuary for relaxation\, where movement and breathwork are entirely optional. Join us for just $20.00\, with drop-ins warmly welcomed. Come experience the magic of sound healing and leave feeling refreshed\, renewed\, and deeply connected to yourself. Book your spot now and embark on a journey of wellness unlike any other. Cash and Venmo accepted for these sessions. \n\n\n\n\n\n  \n\n\n\n\n\n\n\n\n\n\n\n\n\n\n\n\n\n\n\n\n\n\n\n\n\n\n 
URL:https://inspiredmindmatters.com/event/sound-bath-journey-with-jenelle-5/2024-04-21/
ATTACH;FMTTYPE=image/png:https://inspiredmindmatters.com/wp-content/uploads/2023/07/sound-bath-for-website.png
END:VEVENT
END:VCALENDAR