BEGIN:VCALENDAR
VERSION:2.0
PRODID:-//Inspired Mind Matters, LLC Personal Development &amp; Stress Management Coaching - ECPv6.15.20//NONSGML v1.0//EN
CALSCALE:GREGORIAN
METHOD:PUBLISH
X-WR-CALNAME:Inspired Mind Matters, LLC Personal Development &amp; Stress Management Coaching
X-ORIGINAL-URL:https://inspiredmindmatters.com
X-WR-CALDESC:Events for Inspired Mind Matters, LLC Personal Development &amp; Stress Management Coaching
REFRESH-INTERVAL;VALUE=DURATION:PT1H
X-Robots-Tag:noindex
X-PUBLISHED-TTL:PT1H
BEGIN:VTIMEZONE
TZID:UTC
BEGIN:STANDARD
TZOFFSETFROM:+0000
TZOFFSETTO:+0000
TZNAME:UTC
DTSTART:20230101T000000
END:STANDARD
END:VTIMEZONE
BEGIN:VEVENT
DTSTART;TZID=UTC:20240225T093000
DTEND;TZID=UTC:20240225T103000
DTSTAMP:20260421T015608
CREATED:20231221T200808Z
LAST-MODIFIED:20240201T201022Z
UID:10000882-1708853400-1708857000@inspiredmindmatters.com
SUMMARY:Simply Yoga with Jenelle
DESCRIPTION:This class is for the beginner to the advanced yogi. We will link breath to movement throughout class. Cues will be given for students to either find space and relaxation or progress to maximum effort\, according to yogis need for a yoga work out or a yoga work in. This class provides the opportunity for students to progress their practice at their pace. Cash or Venmo\, Cost $20.00 Drop-ins welcome.
URL:https://inspiredmindmatters.com/event/simply-yoga-with-jenelle-10/2024-02-25/
ATTACH;FMTTYPE=image/webp:https://inspiredmindmatters.com/wp-content/uploads/2023/09/YOGA-WITH-CASSANDRA-FOR-SITE-1.webp
END:VEVENT
END:VCALENDAR