BEGIN:VCALENDAR
VERSION:2.0
PRODID:-//Inspired Mind Matters, LLC Personal Development &amp; Stress Management Coaching - ECPv6.15.20//NONSGML v1.0//EN
CALSCALE:GREGORIAN
METHOD:PUBLISH
X-ORIGINAL-URL:https://inspiredmindmatters.com
X-WR-CALDESC:Events for Inspired Mind Matters, LLC Personal Development &amp; Stress Management Coaching
REFRESH-INTERVAL;VALUE=DURATION:PT1H
X-Robots-Tag:noindex
X-PUBLISHED-TTL:PT1H
BEGIN:VTIMEZONE
TZID:UTC
BEGIN:STANDARD
TZOFFSETFROM:+0000
TZOFFSETTO:+0000
TZNAME:UTC
DTSTART:20230101T000000
END:STANDARD
END:VTIMEZONE
BEGIN:VEVENT
DTSTART;TZID=UTC:20240217T093000
DTEND;TZID=UTC:20240217T103000
DTSTAMP:20260421T015628
CREATED:20230920T212127Z
LAST-MODIFIED:20230920T212127Z
UID:10000644-1708162200-1708165800@inspiredmindmatters.com
SUMMARY:Yin Yoga & Meditation with Michelle
DESCRIPTION:Join Michelle for a relaxing and rejuvenating Yin Yoga & Meditation session for your body and mind. All mats\, blankets\, bolsters\, blocks\, and straps are supplied. Class starts at please arrive up to 10 minutes early as to not disrupt class after it starts. Wear comfortable stretchy clothing\, and if your feet get cold\, I recommend socks. Classes are $20.00 Square\, Venmo\, or Cash. Drop-ins welcome.
URL:https://inspiredmindmatters.com/event/yin-yoga-meditation-with-michelle-6/2024-02-17/
ATTACH;FMTTYPE=image/png:https://inspiredmindmatters.com/wp-content/uploads/2023/07/yin-with-michelle-1.png
END:VEVENT
BEGIN:VEVENT
DTSTART;TZID=UTC:20240217T120000
DTEND;TZID=UTC:20240217T130000
DTSTAMP:20260421T015628
CREATED:20240129T234914Z
LAST-MODIFIED:20241117T220704Z
UID:10000885-1708171200-1708174800@inspiredmindmatters.com
SUMMARY:Introduction to Aerial Yoga ***pre-registration required***
DESCRIPTION:Go head over heals…literally in this Introductory Aerial Yoga class. You will get familiar and comfortable with the aerial silk hammock\, learn how it moves\, and learn how your body moves in it. This class is perfect for the beginner just wanting to see if this is for them\, as some people love it and some do not. We will do an introduction\, some warm ups\, 3-5 poses per class\, every pose will be individually spotted by Michelle. \nFor this reason we limit this class to 4 participants. Please pre-register by emailing michelle@inspiredmindmatters.com or sending a Facebook or Instagram message. Once we receive your message we will let you know if there is an open spot and give you Venmo or Square payment instructions to pre-pay or cash pre-payment instructions. Again\, as this is a small class pre-payment is required and NON-REFUNDABLE. Participants must be 18and over. Class is $25.00 \nDisclaimer- Please ask your doctor if this is right for you. Aerial yoga comes with serious risk of injury. With only 4 participants\, every effort will be made to get everyone in and out of the pose while being individually spotted. \nThis form of yoga should not be practiced if you have: \n\nChronic joint pain\, osteoporosis\, herniated disks\, spinal injuries\, recent shoulder or back surgery.\nUntreated high or low blood pressure\, have had a stroke\, or heart disease\nRecent eye surgery\, glaucoma\, or cerebral sclerosis\, or vertigo\nRecent Botox/Dysport treatment\nPregnant\n\nClass cost: $25.00
URL:https://inspiredmindmatters.com/event/introduction-to-aerial-yoga-pre-registration-required/2024-02-17/
ATTACH;FMTTYPE=image/png:https://inspiredmindmatters.com/wp-content/uploads/2023/05/YOGA-WITH-CASSANDRA-6.png
END:VEVENT
END:VCALENDAR