BEGIN:VCALENDAR
VERSION:2.0
PRODID:-//Inspired Mind Matters, LLC Personal Development &amp; Stress Management Coaching - ECPv6.15.20//NONSGML v1.0//EN
CALSCALE:GREGORIAN
METHOD:PUBLISH
X-ORIGINAL-URL:https://inspiredmindmatters.com
X-WR-CALDESC:Events for Inspired Mind Matters, LLC Personal Development &amp; Stress Management Coaching
REFRESH-INTERVAL;VALUE=DURATION:PT1H
X-Robots-Tag:noindex
X-PUBLISHED-TTL:PT1H
BEGIN:VTIMEZONE
TZID:UTC
BEGIN:STANDARD
TZOFFSETFROM:+0000
TZOFFSETTO:+0000
TZNAME:UTC
DTSTART:20220101T000000
END:STANDARD
END:VTIMEZONE
BEGIN:VEVENT
DTSTART;TZID=UTC:20231224T093000
DTEND;TZID=UTC:20231224T103000
DTSTAMP:20260421T055224
CREATED:20231125T000928Z
LAST-MODIFIED:20231125T001228Z
UID:10000864-1703410200-1703413800@inspiredmindmatters.com
SUMMARY:Simply Yoga with Jenelle
DESCRIPTION:This class is for the beginner to the advanced yogi. We will link breath to movement throughout class. Cues will be given for students to either find space and relaxation or progress to maximum effort\, according to yogis need for a yoga work out or a yoga work in. This class provides the opportunity for students to progress their practice at their pace. Cash or Venmo Cost $20.00 Drop-ins welcome.
URL:https://inspiredmindmatters.com/event/simply-yoga-with-jenelle-8-3/
ATTACH;FMTTYPE=image/webp:https://inspiredmindmatters.com/wp-content/uploads/2023/09/YOGA-WITH-CASSANDRA-FOR-SITE-1.webp
END:VEVENT
BEGIN:VEVENT
DTSTART;TZID=UTC:20231224T114500
DTEND;TZID=UTC:20231224T124500
DTSTAMP:20260421T055224
CREATED:20231121T231426Z
LAST-MODIFIED:20231121T231426Z
UID:10000870-1703418300-1703421900@inspiredmindmatters.com
SUMMARY:Christmas Eve Sound Bath with Jenelle
DESCRIPTION:Who doesn’t need a little time to relax and reflect during the busy holiday season!\n\nNo need to bring anything but your holiday spirit and an open mind – we’ve got the yoga mats ready for you. Join us for a celebration of healing\, joy\, and the festive spirit! $15.00 drop-ins welcome.\n\nLocated at the Chautauqua Resort & Conference Center. 300 14th St NW\, Long Beach WA\n\nWe will begin this special Christmas Eve session with gentle movement followed by calming breathwork. We will then get comfortable with blankets and props. Feel free to bring blankets and pillows from home or use the props we have at the studio. Dress in comfortable layers and wear socks. The remainder of class will be spent immersed in a healing sound journey. Your senses will come alive as waves of vibrations dance across your skin.\nThese vibrations will encourage the body to go into deep rest and rejuvenation. This is available to anyone and all movement and breathwork are optional.
URL:https://inspiredmindmatters.com/event/christmas-eve-sound-bath-with-jenelle/
ATTACH;FMTTYPE=image/png:https://inspiredmindmatters.com/wp-content/uploads/2023/11/YOGA-WITH-CASSANDRA-9.png
END:VEVENT
END:VCALENDAR