BEGIN:VCALENDAR
VERSION:2.0
PRODID:-//Inspired Mind Matters, LLC Personal Development &amp; Stress Management Coaching - ECPv6.15.20//NONSGML v1.0//EN
CALSCALE:GREGORIAN
METHOD:PUBLISH
X-ORIGINAL-URL:https://inspiredmindmatters.com
X-WR-CALDESC:Events for Inspired Mind Matters, LLC Personal Development &amp; Stress Management Coaching
REFRESH-INTERVAL;VALUE=DURATION:PT1H
X-Robots-Tag:noindex
X-PUBLISHED-TTL:PT1H
BEGIN:VTIMEZONE
TZID:UTC
BEGIN:STANDARD
TZOFFSETFROM:+0000
TZOFFSETTO:+0000
TZNAME:UTC
DTSTART:20220101T000000
END:STANDARD
END:VTIMEZONE
BEGIN:VEVENT
DTSTART;TZID=UTC:20231218T180000
DTEND;TZID=UTC:20231218T190000
DTSTAMP:20260421T055121
CREATED:20230920T211633Z
LAST-MODIFIED:20230920T211711Z
UID:10000524-1702922400-1702926000@inspiredmindmatters.com
SUMMARY:Vinyasa Flow with Jenelle
DESCRIPTION:This practice is for all bodies and all levels. This class will meet students where they are at and allow for exploration and growth. Jenelle will guide students with props and modifications to make the class accessible for all. Students will be able to challenge themselves and find their own boundaries. Vinyasa Flow yoga emphasizes the sequential movement between postures\, coordinated with and guided by deliberate breath. The Vinyasa practice becomes a moving meditation that creates strength\, freedom and fluidity in the body and mind. Classes are $20.00\, cash or Venmo. Drop-ins welcome.
URL:https://inspiredmindmatters.com/event/vinyasa-flow-with-jenelle-10/2023-12-18/
ATTACH;FMTTYPE=image/png:https://inspiredmindmatters.com/wp-content/uploads/2023/07/YOGA-WITh-JENELLE.png
END:VEVENT
END:VCALENDAR