BEGIN:VCALENDAR
VERSION:2.0
PRODID:-//Inspired Mind Matters, LLC Personal Development &amp; Stress Management Coaching - ECPv6.15.20//NONSGML v1.0//EN
CALSCALE:GREGORIAN
METHOD:PUBLISH
X-WR-CALNAME:Inspired Mind Matters, LLC Personal Development &amp; Stress Management Coaching
X-ORIGINAL-URL:https://inspiredmindmatters.com
X-WR-CALDESC:Events for Inspired Mind Matters, LLC Personal Development &amp; Stress Management Coaching
REFRESH-INTERVAL;VALUE=DURATION:PT1H
X-Robots-Tag:noindex
X-PUBLISHED-TTL:PT1H
BEGIN:VTIMEZONE
TZID:UTC
BEGIN:STANDARD
TZOFFSETFROM:+0000
TZOFFSETTO:+0000
TZNAME:UTC
DTSTART:20220101T000000
END:STANDARD
END:VTIMEZONE
BEGIN:VEVENT
DTSTART;TZID=UTC:20231217T093000
DTEND;TZID=UTC:20231217T103000
DTSTAMP:20260421T055128
CREATED:20231128T233912Z
LAST-MODIFIED:20231128T233912Z
UID:10000874-1702805400-1702809000@inspiredmindmatters.com
SUMMARY:Simply Yoga with Jenelle
DESCRIPTION:This class is for the beginner to the advanced yogi. We will link breath to movement throughout class. Cues will be given for students to either find space and relaxation or progress to maximum effort\, according to yogis need for a yoga work out or a yoga work in. This class provides the opportunity for students to progress their practice at their pace. Cash or Venmo Cost $20.00 Drop-ins welcome.
URL:https://inspiredmindmatters.com/event/simply-yoga-with-jenelle-8/
ATTACH;FMTTYPE=image/webp:https://inspiredmindmatters.com/wp-content/uploads/2023/09/YOGA-WITH-CASSANDRA-FOR-SITE-1.webp
END:VEVENT
BEGIN:VEVENT
DTSTART;TZID=UTC:20231217T120000
DTEND;TZID=UTC:20231217T150000
DTSTAMP:20260421T055128
CREATED:20231019T020946Z
LAST-MODIFIED:20231023T183237Z
UID:10000862-1702814400-1702825200@inspiredmindmatters.com
SUMMARY:Winter Solstice Warm Up Workshop **sold out**
DESCRIPTION:We had so much fun with the Fall Equinox Workshop we are doing it again! Join us on December 17th from 12-3pm as we welcome in Winter in style! Our theme will be ‘Rest & Digest’ and we have some really wonderful offerings planned for those in attendance! $60.00 per person.\nWhat’s Included:\nA serene 40 min YinYasa Fusion session\n30 min Sound Bath and Winter Tale\nCacao Ceremony and Seasonal refreshments\nGentle breathwork & meditation\nJournaling and winter fire ritual\nTake home journal and steam pot kit\n\nContact\nmichelle@inspiredmindmatters.com for waiting list with any cancellations.\nWe know the holidays can be crazy so this is transferrable if you find you can’t come.
URL:https://inspiredmindmatters.com/event/winter-solstice-warm-up-workshop-almost-sold-out/
ATTACH;FMTTYPE=image/jpeg:https://inspiredmindmatters.com/wp-content/uploads/2023/10/385884369_294281973361764_603099968813415574_n.jpg
END:VEVENT
END:VCALENDAR