BEGIN:VCALENDAR
VERSION:2.0
PRODID:-//Inspired Mind Matters, LLC Personal Development &amp; Stress Management Coaching - ECPv6.15.20//NONSGML v1.0//EN
CALSCALE:GREGORIAN
METHOD:PUBLISH
X-WR-CALNAME:Inspired Mind Matters, LLC Personal Development &amp; Stress Management Coaching
X-ORIGINAL-URL:https://inspiredmindmatters.com
X-WR-CALDESC:Events for Inspired Mind Matters, LLC Personal Development &amp; Stress Management Coaching
REFRESH-INTERVAL;VALUE=DURATION:PT1H
X-Robots-Tag:noindex
X-PUBLISHED-TTL:PT1H
BEGIN:VTIMEZONE
TZID:UTC
BEGIN:STANDARD
TZOFFSETFROM:+0000
TZOFFSETTO:+0000
TZNAME:UTC
DTSTART:20220101T000000
END:STANDARD
END:VTIMEZONE
BEGIN:VEVENT
DTSTART;TZID=UTC:20231206T153000
DTEND;TZID=UTC:20231206T163000
DTSTAMP:20260421T055128
CREATED:20230920T212736Z
LAST-MODIFIED:20230920T212736Z
UID:10000804-1701876600-1701880200@inspiredmindmatters.com
SUMMARY:Mini & Me Mindful Movement Ages 3-6 with Parent/Guardian
DESCRIPTION:You and your child or grandchild will connect in movement and mindfulness together. This is an introduction to the mat\, breathwork\, yoga\, moving with intention\, and coordination\, while still being active and having fun. Classes will be interactive and educational\, using stories\, games\, music\, and confidence building equipment. Class price is $15.00\, this includes child and adult\, each additional family sibling is $10.00 Time: 3:30-4:30 pm
URL:https://inspiredmindmatters.com/event/mini-me-mindful-movement-ages-3-6-with-parent-guardian/2023-12-06/
ATTACH;FMTTYPE=image/png:https://inspiredmindmatters.com/wp-content/uploads/2023/05/kids-for-web.png
END:VEVENT
END:VCALENDAR