BEGIN:VCALENDAR
VERSION:2.0
PRODID:-//Inspired Mind Matters, LLC Personal Development &amp; Stress Management Coaching - ECPv6.15.20//NONSGML v1.0//EN
CALSCALE:GREGORIAN
METHOD:PUBLISH
X-ORIGINAL-URL:https://inspiredmindmatters.com
X-WR-CALDESC:Events for Inspired Mind Matters, LLC Personal Development &amp; Stress Management Coaching
REFRESH-INTERVAL;VALUE=DURATION:PT1H
X-Robots-Tag:noindex
X-PUBLISHED-TTL:PT1H
BEGIN:VTIMEZONE
TZID:UTC
BEGIN:STANDARD
TZOFFSETFROM:+0000
TZOFFSETTO:+0000
TZNAME:UTC
DTSTART:20220101T000000
END:STANDARD
END:VTIMEZONE
BEGIN:VEVENT
DTSTART;TZID=UTC:20231022T093000
DTEND;TZID=UTC:20231022T170000
DTSTAMP:20260421T093810
CREATED:20230729T012604Z
LAST-MODIFIED:20230906T153312Z
UID:10000437-1697967000-1697994000@inspiredmindmatters.com
SUMMARY:Free Wellness Day! ****Date has changed from Oct 8 to October 22nd!***
DESCRIPTION:Join Michelle and Jenelle for free classes from 9:30-5:00! If you haven’t been out to check out what we are doing this is the perfect chance to do so! Fall in love with your new favorite class! If you have a class you love…come grab a free one! Drop in on any or all! \n9:30-10:30 Simply Yoga with Jenelle \n11:00-12:00 25 minute Breathwork Session followed by 25 minute Sound Bath \n12:00-1:00 Cold Plunge in one of our 2 -50 degree personal plunge pools\, towels provided \n1:00-1:30 30 minute Sound Bath \n2:00-3:00 Mini & Me Mindful Movement ages 3-6. Introduction to Breathwork & Yoga. 45 minutes free play with all of our sensory and coordination building items including Aerial silks. \n3:30-4:30 Yin & Meditation \n4:30-5:00 Cold Plunge \n  \n  \n 
URL:https://inspiredmindmatters.com/event/free-wellness-day/
ATTACH;FMTTYPE=image/png:https://inspiredmindmatters.com/wp-content/uploads/2023/07/FREE-DAY-WEB.png
END:VEVENT
END:VCALENDAR