BEGIN:VCALENDAR
VERSION:2.0
PRODID:-//Inspired Mind Matters, LLC Personal Development &amp; Stress Management Coaching - ECPv6.15.20//NONSGML v1.0//EN
CALSCALE:GREGORIAN
METHOD:PUBLISH
X-ORIGINAL-URL:https://inspiredmindmatters.com
X-WR-CALDESC:Events for Inspired Mind Matters, LLC Personal Development &amp; Stress Management Coaching
REFRESH-INTERVAL;VALUE=DURATION:PT1H
X-Robots-Tag:noindex
X-PUBLISHED-TTL:PT1H
BEGIN:VTIMEZONE
TZID:UTC
BEGIN:STANDARD
TZOFFSETFROM:+0000
TZOFFSETTO:+0000
TZNAME:UTC
DTSTART:20220101T000000
END:STANDARD
END:VTIMEZONE
BEGIN:VEVENT
DTSTART;TZID=UTC:20230823T180000
DTEND;TZID=UTC:20230823T190000
DTSTAMP:20260421T125842
CREATED:20230729T010729Z
LAST-MODIFIED:20230813T050218Z
UID:10000436-1692813600-1692817200@inspiredmindmatters.com
SUMMARY:Sound Bath Journey with Jenelle
DESCRIPTION:$15.00\, drop-ins welcome. Located at the Chautauqua Resort & Conference Center. 300 14th St NW\, Long Beach WA\nWe will begin the session with gentle movement followed by calming breathwork. We will then get comfortable with blankets and props. Feel free to bring blankets and pillows from home or use the props we have at the studio.\n\nDress in comfortable layers and wear socks. The remainder of class will be spent immersed in a healing sound journey. Your senses will come alive as waves of vibrations dance across your skin.\n\nThese vibrations will encourage the body to go into deep rest and rejuvenation. This is available to anyone and all movement and breathwork are optional.
URL:https://inspiredmindmatters.com/event/sound-bath-journey-with-jenelle/2023-08-23/
ATTACH;FMTTYPE=image/png:https://inspiredmindmatters.com/wp-content/uploads/2023/07/sound-bath-for-website.png
END:VEVENT
END:VCALENDAR