BEGIN:VCALENDAR
VERSION:2.0
PRODID:-//Inspired Mind Matters, LLC Personal Development &amp; Stress Management Coaching - ECPv6.15.20//NONSGML v1.0//EN
CALSCALE:GREGORIAN
METHOD:PUBLISH
X-ORIGINAL-URL:https://inspiredmindmatters.com
X-WR-CALDESC:Events for Inspired Mind Matters, LLC Personal Development &amp; Stress Management Coaching
REFRESH-INTERVAL;VALUE=DURATION:PT1H
X-Robots-Tag:noindex
X-PUBLISHED-TTL:PT1H
BEGIN:VTIMEZONE
TZID:UTC
BEGIN:STANDARD
TZOFFSETFROM:+0000
TZOFFSETTO:+0000
TZNAME:UTC
DTSTART:20220101T000000
END:STANDARD
END:VTIMEZONE
BEGIN:VEVENT
DTSTART;TZID=UTC:20230812T093000
DTEND;TZID=UTC:20230812T104500
DTSTAMP:20260421T125839
CREATED:20230708T040857Z
LAST-MODIFIED:20230731T200757Z
UID:10000168-1691832600-1691837100@inspiredmindmatters.com
SUMMARY:Yin Yoga & Meditation with Michelle
DESCRIPTION:Join Michelle for a relaxing and rejuvenating Yin Yoga & Meditation session for your body and mind. Classes are $15.00 Square\, Venmo\, or Cash. All mats\, blankets\, bolsters\, blocks\, and straps are supplied. Class starts at 9:30 am\, please arrive up to 10 minutes early as to not disrupt class after it starts. Wear comfortable stretchy clothing\, and if your feet get cold\, I recommend socks.
URL:https://inspiredmindmatters.com/event/yin-yoga-meditation-with-michelle-3/2023-08-12/
CATEGORIES:Yin Classes
ATTACH;FMTTYPE=image/png:https://inspiredmindmatters.com/wp-content/uploads/2023/07/yin-with-michelle.png
END:VEVENT
BEGIN:VEVENT
DTSTART;TZID=UTC:20230812T123000
DTEND;TZID=UTC:20230812T140000
DTSTAMP:20260421T125839
CREATED:20230707T065344Z
LAST-MODIFIED:20230710T211220Z
UID:10000162-1691843400-1691848800@inspiredmindmatters.com
SUMMARY:Breathwork Journey and Optional Cold Plunge with Michelle
DESCRIPTION:Join Michelle as she leads you on a Breathwork Journey. This session will include a variety of breathwork to get you energetically aligned and in a beautiful flow state. It will start with a description of why and how to use the breathing methods\, including the benefits\, and contraindications for breath retentions. You will be guided through a short meditation to begin your journey. As we start breathing with the specially selected music you may feel sensations\, have thoughts of visions\, and feel complete relaxation and sometimes pure bliss and/or euphoria. The outcomes are different for everyone as it is a deeply personal experience. Breathing in this manner is a powerful tool in the release of stress and anxiety. Every effort will be made to ensure you feel safe and supported throughout your journey no matter where it takes you. \nLearn how to manage your stress response\, teach your body to use oxygen more efficiently\, strengthen lung capacity\, improve heart rate\, and blood pressure\, and tap into your own feel-good chemicals all with your own breath! What to Wear/Bring: Dress comfortably! We have eye masks\, yoga mats and blankets for you but feel free to bring pillows\, blankets\, and any props that may make you more comfortable. Often people go between hot and cold while practicing breathwork so we recommend socks. Towels\, water and hot tea will be provided. \nCost and Session Length: This is a 1.5 hour session\, Drop in welcome $40 includes optional cold plunge afterwards! \nOptional Cold Plunge in one of our 2 personal portable cold tubs located in the studio patio. \nBenefits to cold plunge include but are not limited to: \n\nReduce inflammation and swelling\nPromote lymphatic drainage\nRegulate hormones\nAccelerate metabolism\nStress Reduction\nImproves sleep and skin\nReleases dopamine and endorphins\nHelps improve your stress response\n\nContraindications for over breathing\, breath retentions\, and cold therapy are below and check with your doctor to see if breathwork and cold therapy are safe options for you: Breathwork is not advised for persons with a history of cardiovascular disease\, including angina or heart attack\, family history of aneurysms\, severe asthma\, high blood pressure\, glaucoma\, retinal detachment\, osteoporosis\, significant recent physical injuries\, or surgery without first speaking with a medical professional. For people with severe mental illness\, seizure disorders or for people prescribed certain medications. Consult your physician if you are pregnant before starting any kind of breathwork. Cold therapy is not advised for anyone with cardiovascular disease\, have heart disease\, currently pregnant\, have Reynaud’s Syndrome\, have high blood pressure\, have circulatory problems\, have a pacemaker\, have hypertension\, or have an open wound. \nClass time: 12:30-2:00 \nCost: $40.00
URL:https://inspiredmindmatters.com/event/breathwork-journey-and-optional-cold-plunge-with-michelle-2/
ATTACH;FMTTYPE=image/png:https://inspiredmindmatters.com/wp-content/uploads/2023/07/breathwork-web-pic.png
END:VEVENT
END:VCALENDAR