BEGIN:VCALENDAR
VERSION:2.0
PRODID:-//Inspired Mind Matters, LLC Personal Development &amp; Stress Management Coaching - ECPv6.15.20//NONSGML v1.0//EN
CALSCALE:GREGORIAN
METHOD:PUBLISH
X-ORIGINAL-URL:https://inspiredmindmatters.com
X-WR-CALDESC:Events for Inspired Mind Matters, LLC Personal Development &amp; Stress Management Coaching
REFRESH-INTERVAL;VALUE=DURATION:PT1H
X-Robots-Tag:noindex
X-PUBLISHED-TTL:PT1H
BEGIN:VTIMEZONE
TZID:UTC
BEGIN:STANDARD
TZOFFSETFROM:+0000
TZOFFSETTO:+0000
TZNAME:UTC
DTSTART:20220101T000000
END:STANDARD
END:VTIMEZONE
BEGIN:VEVENT
DTSTART;TZID=UTC:20230626T183000
DTEND;TZID=UTC:20230626T193000
DTSTAMP:20260421T144428
CREATED:20230527T152103Z
LAST-MODIFIED:20230531T095829Z
UID:10000080-1687804200-1687807800@inspiredmindmatters.com
SUMMARY:Vinyasa Flow with Jenelle
DESCRIPTION:This practice is for all bodies and all levels. This class will meet students where they are at and allow for exploration and growth. Jenelle will guide students with props and modifications to make the class accessible for all. Students will be able to challenge themselves and find their own boundaries. Vinyasa Flow yoga emphasizes the sequential movement between postures\, coordinated with and guided by deliberate breath. The Vinyasa practice becomes a moving meditation that creates strength\, freedom and fluidity in the body and mind. Classes are $20.00\, cash or Venmo. \nPrice is $20.00
URL:https://inspiredmindmatters.com/event/vinyasa-flow-with-jenelle-4-2/
CATEGORIES:Yin Classes
ATTACH;FMTTYPE=image/webp:https://inspiredmindmatters.com/wp-content/uploads/2023/05/YOGA-WITh-JENELLE.webp
END:VEVENT
END:VCALENDAR